﻿BEGIN:VCALENDAR
VERSION:2.0
PRODID:-//K V A N N - ECPv6.15.20//NONSGML v1.0//EN
CALSCALE:GREGORIAN
METHOD:PUBLISH
X-WR-CALNAME:K V A N N
X-ORIGINAL-URL:https://kvann.no
X-WR-CALDESC:Arrangement for K V A N N
REFRESH-INTERVAL;VALUE=DURATION:PT1H
X-Robots-Tag:noindex
X-PUBLISHED-TTL:PT1H
BEGIN:VTIMEZONE
TZID:Europe/Oslo
BEGIN:DAYLIGHT
TZOFFSETFROM:+0100
TZOFFSETTO:+0200
TZNAME:CEST
DTSTART:20250330T010000
END:DAYLIGHT
BEGIN:STANDARD
TZOFFSETFROM:+0200
TZOFFSETTO:+0100
TZNAME:CET
DTSTART:20251026T010000
END:STANDARD
BEGIN:DAYLIGHT
TZOFFSETFROM:+0100
TZOFFSETTO:+0200
TZNAME:CEST
DTSTART:20260329T010000
END:DAYLIGHT
BEGIN:STANDARD
TZOFFSETFROM:+0200
TZOFFSETTO:+0100
TZNAME:CET
DTSTART:20261025T010000
END:STANDARD
BEGIN:DAYLIGHT
TZOFFSETFROM:+0100
TZOFFSETTO:+0200
TZNAME:CEST
DTSTART:20270328T010000
END:DAYLIGHT
BEGIN:STANDARD
TZOFFSETFROM:+0200
TZOFFSETTO:+0100
TZNAME:CET
DTSTART:20271031T010000
END:STANDARD
END:VTIMEZONE
BEGIN:VEVENT
DTSTART;TZID=Europe/Oslo:20260421T180000
DTEND;TZID=Europe/Oslo:20260421T193000
DTSTAMP:20260421T024323
CREATED:20260304T155002Z
LAST-MODIFIED:20260304T155345Z
UID:35138-1776794400-1776799800@kvann.no
SUMMARY:Innlandets Frørettigheter : i dag og i morgen
DESCRIPTION:Dyrker du? Liker du biologisk mangfold? Undrer du over hvordan ting blir i morgen?\nBli med på kortfilm-visning og panelsamtale på Stange bibliotek!\n\n\nI desember 2025 ble siste runde i EU forhandlet omkring deregulering av nye GMO teknikker\, også kalt NGT (New Genomic Techniques). Siden 2001 har EU hatt et strengt regelverk mot bruk av GMO\, og gjennom EØS-avtalen også i Norge. De nye forhandlingene angår et forslag om å deregulere GMO loven\, som gjør det mulig å bruke GMO i mye større grad. Dette kan resultere i større mengder GMO i butikkene blant annet fordi de ikke lengre skal risikovuderes og kontrolleres som før. Det vil også ikke lengre være krav om merking og sporbarhet (bare for frø). Lovforslaget vil bli stemt på i EU Parlamentet i april 2026\, og ved filmvisningen vil vi vite mer om resultatet og konsekvensene det vil ha. \nNår selskaper får bruke NGT\, kan de ta patent på frøene. Dette kan ha store konsekvenser for frørettigheter både for yrkesdyrkere og hobbydyrkere. Men nøyaktig hvordan dette vil se ut er ikke alltid lett å vite\, derfor vil vi ha en samtale. \nVi viser kortfilmen “Den levende løsning” av Isabelle Denaro. Så spør vi oss selv hva vi ønsker i fremtidens Innlandet\, når det gjelder frørettigheter\, og biologsik mangfold. Det blir samtale med Mari Aas Jensen fra Statsforvalteren i Innlandet\, Jasper Kroon fra Solhatt og Andrew McMillion fra KVANN. \n\nBilde over: av Isabelle Denaro.
URL:https://kvann.no/arrangement/innlandets-frorettigheter-i-dag-og-i-morgen/
LOCATION:Stange bibliotek\, Skolegata 1\, Stange\, 2335
CATEGORIES:Debatt
ATTACH;FMTTYPE=image/png:https://kvann.no/wp-content/uploads/2026/03/Design-uten-navn-9.png
ORGANIZER;CN="KVANN":MAILTO:medlem@kvann.no
END:VEVENT
BEGIN:VEVENT
DTSTART;TZID=Europe/Oslo:20260502T130000
DTEND;TZID=Europe/Oslo:20260502T140000
DTSTAMP:20260421T024323
CREATED:20260330T071932Z
LAST-MODIFIED:20260330T071932Z
UID:35628-1777726800-1777730400@kvann.no
SUMMARY:Bærekraftig dyrking med Andrew McMillion
DESCRIPTION:Bli inspirert til å komme i gang med hagesesongen! Skedsmo bygdemuseum inviterer til foredrag i hovedbygningen om bærekraftig dyrking med Andrew McMillion.Riktig plante på riktig sted er en forutsetning for å lykkes med god avling. Andrew McMillion har tatt dette et skritt videre og han jobber iherdig med avling av egne frø fra lokalt tilpassede sorter. Først på Rolstad Gård i Fenstad og nå på Hurdal Gjestegård (tidligere prestegård). Han er lidenskapelig opptatt av samspillet i naturen og økologisk dyrking på en bærekraftig måte. Her kan vi lære masse om kortreist dyrking og veien til suksess.\nAndrew McMillion er plantefaglig koordinator og styremedlem i KVANN og kaller seg selv for en ekte frøfanatiker.\nVi på Skedsmo bygdemuseum gleder oss til å lære mer under dette foredraget som finner sted i hovedbygningen. Inngang kr 90.Museumskafeen har sesongåpning samme dag\, og holder åpen fra kl 12 til kl 16.\nBilletter kjøpes her Ticketsmuseumsbillett.no/no/museum/407/produkt/1557
URL:https://kvann.no/arrangement/baerekraftig-dyrking-med-andrew-mcmillion-2/
LOCATION:Skedsmo Bygdemuseum Huseby\, Husebyveien 9\, Skedsmokorset\, 2020\, Norway
ATTACH;FMTTYPE=image/jpeg:https://kvann.no/wp-content/uploads/2025/10/I-lokhagen.jpg
END:VEVENT
BEGIN:VEVENT
DTSTART;TZID=Europe/Oslo:20260503T120000
DTEND;TZID=Europe/Oslo:20260503T160000
DTSTAMP:20260421T024323
CREATED:20260326T200208Z
LAST-MODIFIED:20260331T072709Z
UID:35451-1777809600-1777824000@kvann.no
SUMMARY:Spiselig plantemarked
DESCRIPTION:Velkommen til plantemarked med fokus på🥕spiselige vekster! 🌱 \nVi fokuserer på robuste spiselige plantene som trives i Bergen med regn og kanskje en hageeier som reiser på ferie? \nDisse kommer med pluggplanter\, fruktbusker og frukttær: \n🌱 Gulen gartneri\n🌱 Kjøkkenhagen på Rykkje\n🌱 Toppe gartneri\n🌱 KVANN\n🌱 Dyrkbart (kompost) \nDet blir svelekafé 🥨\nBaristaklubben serverer deilig kaffe☕️\nLystgården vokal synger 🌼 \n👩🏼‍🌾 👩🏾‍🌾 👩🏻‍🌾 Bybondeteamet holder 15 minutters gratis minikurs gjennom dagen\, for å hjelpe deg å lykkes med plantene du har kjøpt: \n13.00 Utplanting \n13.30 Samplanting \n14.00 Vekstskifte \n14.30 Gjødsel og jorddekke \n15.00 Skadedyr \nTa med noe du kan ha plantene du kjøper i. \nBuss nr 12 har stoppested Kanonhaugen. Gå av til venstre og rett til høyre ned gaten. \nKommer du bil kan du parkere på parkeringsplassen til Bergen inkluderingssenter / Lægdebanen 🚙 🌱 \nArrangementet er gratis og du trenger ikke billett.
URL:https://kvann.no/arrangement/spiselig-plantemarked/
LOCATION:Lystgården\, Kanonhaugen 39\, Bergen\, 5097\, Norge
ATTACH;FMTTYPE=image/jpeg:https://kvann.no/wp-content/uploads/2026/03/659002899_1329458062549878_3943328296313101978_n.jpg
END:VEVENT
BEGIN:VEVENT
DTSTART;TZID=Europe/Oslo:20260507T180000
DTEND;TZID=Europe/Oslo:20260507T200000
DTSTAMP:20260421T024323
CREATED:20260126T132947Z
LAST-MODIFIED:20260211T201519Z
UID:34834-1778176800-1778184000@kvann.no
SUMMARY:Kurs i frøberedskap
DESCRIPTION:Velkommen til kurs i frøberedskap med Andrew McMillion fra KVANN (Kunnskap om og vern av nytteplanter i Norge)\n\nRiktig plante på riktig sted er en forutsetning for å lykkes med god avling. Arbeidet med dette har Andrew McMillion tatt et skritt videre og jobber iherdig med avling av egne frø fra lokalt tilpassede sorter på Hurdal Gjestegård (tidligere prestegård og en av gårdene i Shubelers hager). McMillion er lidenskapelig opptatt av samspillet i naturen og økologisk dyrking på en bærekraftig måte. Her kan vi lære masse om kortreist dyrking og veien til å bli en del av et nettverk som tar vare på et stor mangfold av lokalt tilpasset frø.\n\nKurset om frøberedskap:\nKurset gir deg nok kunnskap til å etablere ditt eget frøberedskaps lager av lokalt tilpasset frø. Målet med kurset er å sikre at du får nok kunnskap til å avle fram sortsekte frø av kultiverte sorter\, åpenpollinerte planter\, og også av stauder og urter!\n\nDel 1: Inspirasjon om bærekraftig dyrkings systemer og visjonen for et nordisk matsystem som er regenerativt og bryter ned barrieren mellom mennesker og natur. Det inkluderer også litt historikk om bruksgenbanker (Community Seed Banks)\, KVANN og Schubelers hager.\n\nDel 2: Her går vi dypere inn i basis kunnskap om seleksjon\, klassifisering\, pollinering og det som trengs av kunnskap for å ta vare på frø. Målet er å bli en frø vokter (seed steward) som holder nordiske kultivarer sortsekte og genetisk robust. Vi trenger mage flere frø voktere og håper at du også blir med på dette viktig arbeid som starter med denne basis kunnskap.\nAndrew tar også med seg frø så kan du selv prøve deg på kortreist dyrking i egen hage.\n\nLitt om foredragsholder:\nAndrew McMillion har egentlig sin bakgrunn fra IT bransjen\, men har “konvertert” til den “grønne” siden og blitt småbruker i Hurdal\, etter å ha drevet Rolstad Gård i Fenstad og Brauterhagen i Nes gjennom en årrekke. Han er plantefaglig koordinator og tidligere styremedlem i KVANN og kaller seg selv for en ekte frøfanatiker. Andrew holder kurs i frø-reproduksjon\, jordhelse\, dyrking av grønnsaker under ekstreme forhold\, drivhusdesign/bruk og økologi. Han forvalter frø fra over 100 forskjellige sorter planter. Filosofien som ligger til grunn er at frø bør tilpasses lokale forhold og ikke komme fra store selskaper i utlandet. Andrew tar vare på sorter som han mener er spesielt egnet for dyrking i området her hvor vi bor.\n\nI Desember fikk McMillion fikk Plantearven Prisen for “bevaring\, bruk og formidling om plantegenetisk mangfold i Norge”. https://nibio.no/…/plantearven-prisen-til-andrew…\nBillettpris: Gratis for medlemmer av Toten Hagelag. 100 kroner for ikke-medlemmerDet blir loddsalg.Og vi spanderer kaffe og kake.\nDet er også mulig å melde seg inn i Østre Toten hagelag\n\nBilde er fra filmen FRø av Make Impact Films https://makeimpactfilms.com/
URL:https://kvann.no/arrangement/kurs-i-froberedskap/
LOCATION:Østre Toten Folkebibliotek\, Rådhusgata 20\, Lena\, 2850
CATEGORIES:Frø,Kurs
ATTACH;FMTTYPE=image/jpeg:https://kvann.no/wp-content/uploads/2026/02/Unknown.jpeg
ORGANIZER;CN="KVANN":MAILTO:medlem@kvann.no
END:VEVENT
BEGIN:VEVENT
DTSTART;TZID=Europe/Oslo:20260510T130000
DTEND;TZID=Europe/Oslo:20260510T140000
DTSTAMP:20260421T024323
CREATED:20260210T135135Z
LAST-MODIFIED:20260210T135258Z
UID:34944-1778418000-1778421600@kvann.no
SUMMARY:Egenberedskap i kjøkkenhagen // Vårmarked på Portåsen
DESCRIPTION:Lurer du på hvordan hagen din kan bidra til beredskap? Under årets Vårmarked vil Andrew McMillion snakke om hvilke grep man bør ta for å øke egenberedskapen.\nAndrew McMillion har mange års erfaring som småbruker og frøsamler i KVANN. Han vil snakke om hvilke grønnsaksarter\, sorter\, jordforbedringsteknikker\, verktøy og redskaper som resulterer i en overflod av mat fra egen hage. Han kommer også inn på hvordan man bør høste og lagre for å kunne spise avlingen gjennom hele året. Her deler han sine beste tips for å leve i takt med et sunt og velfungerende økosystem.\nBilleter bestilles her ( Medlemmer i kvann får foredraget til kr 50\, men da må de benytte seg av promokoden kvann2026 i Ticketco.)\nhttps://portaasen.ticketco.events/no/nb/e/foredrag_egenberedskap_i_kjoekkenhagenfbclid=IwY2xjawP4FqBleHRuA2FlbQIxMABicmlkETBDQnU1cXEzY1JNZU9wTXVBc3J0YwZhcHBfaWQQMjIyMDM5MTc4ODIwMDg5MgABHvmkBpS-TJSmcf5zxujjDVCJaMSalAP3To61eTzgI4SiUrK8gOQi1Em2-KG8_aem_MTtKg9h_ruC7SCR7wgU0WA  \n\nBilde er fra filmen FRø av Make Impact Films https://makeimpactfilms.com/
URL:https://kvann.no/arrangement/egenberedskap-i-kjokkenhagen-varmarked-pa-portasen/
LOCATION:Portåsen\, Portåsveien 85\, Mjøndalen\, 3050\, Norway
ATTACH;FMTTYPE=image/jpeg:https://kvann.no/wp-content/uploads/2026/02/Unknown.jpeg
END:VEVENT
BEGIN:VEVENT
DTSTART;TZID=Europe/Oslo:20260521T093000
DTEND;TZID=Europe/Oslo:20260521T140000
DTSTAMP:20260421T024323
CREATED:20260409T085212Z
LAST-MODIFIED:20260409T085212Z
UID:35769-1779355800-1779372000@kvann.no
SUMMARY:Urtearv Hedmark: kurs på Geitmyra Ringsaker
DESCRIPTION:Ønsker du å formidle glede\, kunnskap og inspirasjon om hager og uteområder til barn? Da kan dette kurset passe for deg!\n\nDette er en kurs for formidlere som jobber med besøkshager og barn. Bestill plassen din her\nGeitmyra Ringsaker har mye erfaring når det gjelder formidling av uteområder til barn. Det er særlig fokus på formidling av hagene gjennom mat.\nDette er en mer per praktisk kurs etter det teoretiske kurset vi hadde 27 mars på samme tematikk.\nProgram: \n09:30 Oppmøte og velkomst \n10:00 Høsting og sanking\, sylting og safting- hvordan jobber vi for og vekke barnas interesse ute i hagene\, vi lager mat\, spiser og høster sammen \n12:30 lunsj \n13:00 Erfaringsutveksling \n14:00 Avslutting og hjemreise \nKurset er en del av prosjektet Urtearv Hedmark vi jobber med kartlegging\, bevaring og formidling av urtearven i Hedmark. Det er særlig rettet mot barn\, slik som dette kurset som er rettet mot folk som jobber med formidling til barn. Urtearv Hedmark er støttet av Hedmark Sparebankstiftelse
URL:https://kvann.no/arrangement/urtearv-hedmark-kurs-pa-geitmyra-ringsaker/
LOCATION:Geitmyra Ringsaker\, Strandsagvegen 2B\, 2383 Brumunddal
CATEGORIES:Kurs
ATTACH;FMTTYPE=image/png:https://kvann.no/wp-content/uploads/2026/04/Design-uten-navn-13.png
ORGANIZER;CN="KVANN":MAILTO:medlem@kvann.no
END:VEVENT
BEGIN:VEVENT
DTSTART;TZID=Europe/Oslo:20260528T100000
DTEND;TZID=Europe/Oslo:20260528T113000
DTSTAMP:20260421T024323
CREATED:20260416T100657Z
LAST-MODIFIED:20260416T115014Z
UID:35840-1779962400-1779967800@kvann.no
SUMMARY:Stamsund teaterfestival: A Diversity of Sustainable Food Plants
DESCRIPTION:Bli med på en unik reise inn i den spiselige hagen sammen med Stephen Barstow – kjent som «The Extreme Salad Man» og en av Norges fremste eksperter på flerårige matplanter! Stephen har i over 40 år samlet\, dyrket og eksperimentert med spiselige planter fra hele verden – med særlig fokus på flerårige vekster som kommer igjen år etter år. I hagene sine i Malvik og Trondheim har han over 2000 forskjellige spiselige planter\, og han er kjent for hans mangfoldsretter\, inspirert av Middelhavsdietten\, og har i over 20 år hatt verdensrekord\, med en salat med 537 planter hjemme i Den Spiselige Hagen! I dette foredraget deler Stephen sin unike kunnskap og lidenskap for en mer bærekraftig og robust måte å dyrke mat på. Du vil lære om og få inspirasjon til: Flerårige grønnsaker som trives i vårt nordlige klima med spesielt fokus på Nord-Norge. Hvordan du kan skape en vakker\, naturvennlig og spiselig hage som gir mat gjennom hele sesongen. Spennende planter og prosjekter han holder på med akkurat nå. Flerårige matplanter krever mindre vedlikehold\, vann og gjødsel og er ofte bedre tilpasset lokale forhold\, tåler et varierende klima og mange vokser best når det ikke er for varmt og i skyggen. De er i mindre grad angepet av skadeinsekter og skadelige sopp og på den måten er enklere å dyrke økologisk uten behov for plast som fiberduk. De er sterkere mot klimaendringer\, binder mer karbon. De har ofte større næringsinnhold enn konvensjonelle grønnsaker. De bidrar til økt biologisk mangfold: de gir for eksempel mat til et mangfold av insekter ved at de fleste blomstrer. De dobler som prydplanter (Stephen kaller dem prydsaker eller edimentals). De vil kunne gi et viktig bidrag til fremtidens matsikkerhet og mindre behov for importerte mat. \n\nStephen Barstow er forfatter av boka Around the World in 80 Plants\, er gjesteforsker på NTNU Ringve Botaniske Hagen i Trondheim hvor han har anlagt Løkhagen Chicago og styremedlem av Væres Venners Felleshagen hvor han har anlagt Verdenshagen\, en samling av over 200 flerårige matplanter fra hele verden. Han ledet foreningen KVANN (Kunnskap og Vern av Nytteplanter i Norge) i flere år og er i dag Plantefaglig leder. De siste årene har Stephen samarbeidet med en rekke kunstnere som er interessert i samspillet mellom mat og kunst. Filmen Extreme Salad Man ble vist på Nasjonalmuseet i Oslo i fjor og i Seattle i vinter som en del av New Nordic Exhibition (den vil også bli vist på Stamsund under festivalen). Han regnes som en pioner innen permakultur og flerårige matplanter. Han har holdt foredrag og kurs internasjonalt og er en inspirerende formidler med et smittende engasjement for nytteplantenes verden. \nStamsund Teaterfestival\nJ. M. Johansens vei 97\n8340 Stamsund\nHotellet
URL:https://kvann.no/arrangement/a-diversity-of-sustainable-food-plants/
LOCATION:J. M. Johansens vei 97 8340 Stamsund\, J. M. Johansens vei 97\, Stamsund\, Stamsund\, 8340\, Norway
END:VEVENT
BEGIN:VEVENT
DTSTART;TZID=Europe/Oslo:20260529T100000
DTEND;TZID=Europe/Oslo:20260529T110000
DTSTAMP:20260421T024323
CREATED:20260416T095606Z
LAST-MODIFIED:20260416T095606Z
UID:35836-1780048800-1780052400@kvann.no
SUMMARY:Stamsund teaterfestival: The Extreme Salad Man
DESCRIPTION:Extreme Salad Man is a film about a plant-collector and his edible garden near Trondheim in Norway. Stephen Barstow has a life project to save and grow perennial plants so that he can eat a (mostly) vegetarian and biodiverse diet year round. With its cold climate and short growing season\, many people assume that eating locally in Norway has to be meat-heavy. Stephen proves that with creativity and dedication\, an abundant and delicious plant-based diet is possible\, even in one of the more challenging growing climates on Earth. Shot over 2 years\, the film explores taste\, place and change and celebrates the joy in growing and eating recipes that contain more than 200 ingredients.\n\n\n\nThe film was supported by and shown at The National Museum of Norway as part of the New Nordic: Cuisine\, Aesthetics and Place exhibition in 2025. A version of the exhibition was on display at the National Nordic Museum in Seattle\, USA.Cathrine Kramer is an artist and member of Genomic Gastronomy\, an art group that investigates the biotechnologies and biodiversity of human food systems through collaboration and humour. The studio’s mission is to map food controversies\, prototype alternative culinary futures\, and to imagine a more just\, biodiverse and beautiful food system.Since 2010\, Genomic Gastronomy has presented its research through installations\, films\, publications\, performances and meals. Their work has taken place in Norway\, across Europe\, and in Asia and North America\, collaborating with scientists\, chefs\, hackers and gardeners to understand how culture\, ecology and technology shape what we eat. \n  \n\nSted: Stamsund Teaterfestival\nJ. M. Johansens vei 97\n8340 Stamsund\nHotellet
URL:https://kvann.no/arrangement/stamsund-teaterfestival-the-extreme-salad-man/
LOCATION:J. M. Johansens vei 97 8340 Stamsund\, J. M. Johansens vei 97\, Stamsund\, Stamsund\, 8340\, Norway
END:VEVENT
BEGIN:VEVENT
DTSTART;TZID=Europe/Oslo:20260627T103000
DTEND;TZID=Europe/Oslo:20260627T153000
DTSTAMP:20260421T024323
CREATED:20260416T105622Z
LAST-MODIFIED:20260416T105622Z
UID:35842-1782556200-1782574200@kvann.no
SUMMARY:Hagefestival og foredrag med Stephen Barstow
DESCRIPTION:HAGEFESTIVAL i LANDSBYEN DOKKA LØRDAG 27. JUNI 2026      \nNy og spennende hagefestival på Dokka med tema HAGEGLEDE OG MATLYST! \nStephen Barstow kommer og holder et gratis foredrag om spiselige vekster.    \nEllers blir det masse utstillere og stands med hage og matrelaterte produkter.  \nMer info kommer etter hvert.  \nSett av datoen.  \nVelkommen til en dag fylt av hageglede.
URL:https://kvann.no/arrangement/hagefestival-og-foredrag-med-stephen-barstow/
LOCATION:Storgata Dokka\, Dokka\, Norway
END:VEVENT
END:VCALENDAR