﻿BEGIN:VCALENDAR
VERSION:2.0
PRODID:-//K V A N N - ECPv6.15.20//NONSGML v1.0//EN
CALSCALE:GREGORIAN
METHOD:PUBLISH
X-ORIGINAL-URL:https://kvann.no
X-WR-CALDESC:Arrangement for K V A N N
REFRESH-INTERVAL;VALUE=DURATION:PT1H
X-Robots-Tag:noindex
X-PUBLISHED-TTL:PT1H
BEGIN:VTIMEZONE
TZID:Europe/Oslo
BEGIN:DAYLIGHT
TZOFFSETFROM:+0100
TZOFFSETTO:+0200
TZNAME:CEST
DTSTART:20240331T010000
END:DAYLIGHT
BEGIN:STANDARD
TZOFFSETFROM:+0200
TZOFFSETTO:+0100
TZNAME:CET
DTSTART:20241027T010000
END:STANDARD
BEGIN:DAYLIGHT
TZOFFSETFROM:+0100
TZOFFSETTO:+0200
TZNAME:CEST
DTSTART:20250330T010000
END:DAYLIGHT
BEGIN:STANDARD
TZOFFSETFROM:+0200
TZOFFSETTO:+0100
TZNAME:CET
DTSTART:20251026T010000
END:STANDARD
BEGIN:DAYLIGHT
TZOFFSETFROM:+0100
TZOFFSETTO:+0200
TZNAME:CEST
DTSTART:20260329T010000
END:DAYLIGHT
BEGIN:STANDARD
TZOFFSETFROM:+0200
TZOFFSETTO:+0100
TZNAME:CET
DTSTART:20261025T010000
END:STANDARD
END:VTIMEZONE
BEGIN:VEVENT
DTSTART;TZID=Europe/Oslo:20251101T080000
DTEND;TZID=Europe/Oslo:20251102T170000
DTSTAMP:20260423T093629
CREATED:20250909T084837Z
LAST-MODIFIED:20250909T084837Z
UID:33335-1761984000-1762102800@kvann.no
SUMMARY:Nordic Seed Alliance - workshop i Danmark
DESCRIPTION:Til november mødes vi fysisk på Makvärket i Regstrup\, Danmark til Nordic Seed Alliance’ første store konference. Her samler vi frøfolk\, bønder\, forskere\, aktivister og haveentusiaster fra hele Norden for at fordybe os i frøets verden – fra politik og lovgivning til praktisk avl\, bevaring og fællesskabsbaserede initiativer. \nKonferencen bliver to dage med inspirerende oplæg\, workshops og erfaringsudveksling\, hvor vi både høster viden\, deler fortællinger og spirer nye samarbejder. Det er her\, vi kan styrke vores netværk\, skabe retning for det nordiske frøarbejde og mærke kraften i at stå sammen om en fælles sag.  \nKom og vær med til at høste erfaringer\, dyrke nye forbindelser og så frøene til en stærk nordisk frøbevægelse  \nProjektet er støttet af DEMOS nordisk kulturkontakt  \nOrganisationer som deltager: Kvann\, Sesam\, Frøsamlerne\, Praktisk Økologi\, Holma Folkhøgskola\, FOBO\, Noah og Permakultur Sverige og Danmark \nPåmeldingslenke og mer informasjon kommer!
URL:https://kvann.no/arrangement/nordic-seed-alliance-workshop-i-danmark/
LOCATION:Makvärket\, Teglværksvej 30\, Regstrup\, 4420\, Denmark
CATEGORIES:Fagtreff
END:VEVENT
END:VCALENDAR