﻿BEGIN:VCALENDAR
VERSION:2.0
PRODID:-//K V A N N - ECPv6.15.20//NONSGML v1.0//EN
CALSCALE:GREGORIAN
METHOD:PUBLISH
X-WR-CALNAME:K V A N N
X-ORIGINAL-URL:https://kvann.no
X-WR-CALDESC:Arrangement for K V A N N
REFRESH-INTERVAL;VALUE=DURATION:PT1H
X-Robots-Tag:noindex
X-PUBLISHED-TTL:PT1H
BEGIN:VTIMEZONE
TZID:Europe/Oslo
BEGIN:DAYLIGHT
TZOFFSETFROM:+0100
TZOFFSETTO:+0200
TZNAME:CEST
DTSTART:20250330T010000
END:DAYLIGHT
BEGIN:STANDARD
TZOFFSETFROM:+0200
TZOFFSETTO:+0100
TZNAME:CET
DTSTART:20251026T010000
END:STANDARD
BEGIN:DAYLIGHT
TZOFFSETFROM:+0100
TZOFFSETTO:+0200
TZNAME:CEST
DTSTART:20260329T010000
END:DAYLIGHT
BEGIN:STANDARD
TZOFFSETFROM:+0200
TZOFFSETTO:+0100
TZNAME:CET
DTSTART:20261025T010000
END:STANDARD
BEGIN:DAYLIGHT
TZOFFSETFROM:+0100
TZOFFSETTO:+0200
TZNAME:CEST
DTSTART:20270328T010000
END:DAYLIGHT
BEGIN:STANDARD
TZOFFSETFROM:+0200
TZOFFSETTO:+0100
TZNAME:CET
DTSTART:20271031T010000
END:STANDARD
END:VTIMEZONE
BEGIN:VEVENT
DTSTART;TZID=Europe/Oslo:20260115T180000
DTEND;TZID=Europe/Oslo:20260115T210000
DTSTAMP:20260423T011550
CREATED:20251120T094623Z
LAST-MODIFIED:20251120T095711Z
UID:34259-1768500000-1768510800@kvann.no
SUMMARY:Kvann : en kulturhistorisk plantehelt
DESCRIPTION:Velkommen til en kveld om kvann. Mari Jerstad\, prosjektleder for Urtearv Hedmark\, kommer til prestegården for å snakke om kvann. Både som kulturhistorisk plantehelt\, men også som morgendagens lyspunkt og kveldens smaksopplevelse! \nVi vil være innom områder som historiske kilder\, dyrking\, tilberedning\, bevaring\, vill fjellkvann\, vossakvann\, og enda mer om den myteomspunnede planten. Vi er innom kvann i minoritetskulturer\, og kvann i andre land. Mari vil også snakke litt om Urtearv prosjektet til KVANN\, hvorfor planten kvann er så viktig for organisasjonen KVANN\, og hva KVANN helt konkret gjør for å bevare vossakvann. Deltakere med personlig erfaring med planten er veldig velkomne til å dele dette også i løpet av kvelden! \nOm stedet: \nDenne kvelden finner sted på Ringebu prestegård. Ringebu Prestegard er en kulturperle som ligger vakkert til i dalsiden like ved Ringebu stavkirke\, langs «Panoramavegen» til landsbyen Ringebu. Prestegarden var prestebolig frem til 1991. I dag er den fredede og restaurerte Prestegarden med sine mange gamle hus og hage en historisk opplevelse. I sommersesongen og andre utstillingsperioder gjennom året er det også kunstgalleri og kafé. Hvert år presenteres nye kunstnere sammen med noen faste utstillinger. I 2019 mottok Halldis Myhre Tvete og Kari Bentzen Plantearvenprisen for reetablering av hagen på prestegården. Det er en helt unik hage med mange kulturplanter\, inkludert kveldens stjerne\, vossakvann. \nOm foredragsholderen:\nMari Jerstad er prosjektleder for Urtearv : planter i levende minne i KVANN. KVANN står for kunnskap om og vern av nytteplanter i Norge\, og er en nasjonal interesseorganisasjon med mange laug. Medlemmer deler frø og botanisk materiale gratis med hverandre. Blant annet er det et laug som heter Schubelers Hager\, et nettverk av historiske hager der prestegården er medlem. Det er også et laug for urter. Mari er en del av laugsledelsen i urtelauget. Tidligere gikk hun på Sogn jord- og hagebruksskulen\, og har studert medisinske planter. Hun har også reist rundt på veiløse gårder på vestlandet for å intervjue eldre folk om plantearven\, og intervjuet innvandrere fra Iran\, Irak og Afghanistan om urtetradisjoner de har med seg. I dag vidrefører hun kartleggingsarbeidet\, ved siden av formidlingsarbeid i KVANN.
URL:https://kvann.no/arrangement/kvann-en-kulturhistorisk-plantehelt/
LOCATION:Ringebu Prestegård\, Vekkomsvegen 433\, Ringebu\, 2630
CATEGORIES:Dyrkingsmetoder,Fagtreff,Foredrag,Kurs
ATTACH;FMTTYPE=image/png:https://kvann.no/wp-content/uploads/2025/11/admin-ajax.png
ORGANIZER;CN="KVANN":MAILTO:medlem@kvann.no
END:VEVENT
BEGIN:VEVENT
DTSTART;TZID=Europe/Oslo:20260130T170000
DTEND;TZID=Europe/Oslo:20260130T190000
DTSTAMP:20260423T011550
CREATED:20260119T113336Z
LAST-MODIFIED:20260119T123001Z
UID:34785-1769792400-1769799600@kvann.no
SUMMARY:Grønn mingling : biologisk mangfold i hagen
DESCRIPTION:Velkommen til Grønn Mingling – en inspirerende kveld med god grønn mat\, grønne ideer og gode møter mellom mennesker.\n\nKvelden arrangeres i samarbeid mellom KVANN og Stammen kaft. Vi starter med et foredrag med Jurgen Wegter om Biologisk mangfold i hagen – hvorfor og hvordan øke biodiversiteten i våre hager. Foredraget starter ca. kl. 17.\n\nArrangement er støttet av Trondheim kommune så det blir gratis Dal m/ris til alle gjester.\nCa. kl. 18 blir det frøbytte – ta gjerne med overskuddsfrø og bytt med andre hageentusiaster!\n\nEtter frøbyttet vil Judith Feher fra KVANN vise den nye filmen: “Den Levende Løsningen – et oppgjør med GMO-dereguleringen” (ca.30 min).\n\nVelkommen alle og enhver!
URL:https://kvann.no/arrangement/gronn-mingling-biologisk-mangfold-i-hagen/
LOCATION:Stammen Kafé i Trondheim\, Kongens gate 55\, Trondheim\, 7012\, Norge
CATEGORIES:Fagtreff
ORGANIZER;CN="KVANN":MAILTO:medlem@kvann.no
END:VEVENT
BEGIN:VEVENT
DTSTART;TZID=Europe/Oslo:20260131T120000
DTEND;TZID=Europe/Oslo:20260131T130000
DTSTAMP:20260423T011550
CREATED:20260121T085750Z
LAST-MODIFIED:20260121T085811Z
UID:34797-1769860800-1769864400@kvann.no
SUMMARY:Frøbyttedag på Ørsta
DESCRIPTION:Vil du dyrke noe til våren? \nVelkommen til frøbyttedag på Ørsta folkebibliotek! Ta med det du måtte ha av ekstra frø\, og bytt til deg det du trenger. \nDenne dagen er den internasjonale frøbyttedagen. KVANN (Kunnskap om og vern av nytteplanter i Norge) arrangerer frøbyttedag en rekke steder. I samarbeid med Ørsta Sirkelhage og Ørsta folkebibliotek blir det frøbytte også i Ørsta! \nVelkommen innom!
URL:https://kvann.no/arrangement/frobyttedag-pa-orsta/
LOCATION:Ørsta folkebibliotek\, Holmegata 7\, Ørsta\, 6153
CATEGORIES:Fagtreff
ATTACH;FMTTYPE=image/jpeg:https://kvann.no/wp-content/uploads/2026/01/Kvannefro-2.jpg
ORGANIZER;CN="KVANN":MAILTO:medlem@kvann.no
END:VEVENT
BEGIN:VEVENT
DTSTART;TZID=Europe/Oslo:20260131T140000
DTEND;TZID=Europe/Oslo:20260131T160000
DTSTAMP:20260423T011550
CREATED:20260105T125431Z
LAST-MODIFIED:20260105T131723Z
UID:34696-1769868000-1769875200@kvann.no
SUMMARY:Frøbyttedag på Hardangerakademiet
DESCRIPTION:31.januar\, klokken 14.00 – 16.00 inviterer Hardangerakademiet\, i samarbeid med KVANN\, til frøbyttedag på Jonatunet. Flere av Hardangerakademiets medlemmer og frivillige er knall gode på økologi og frøsamling\, det blir mulig å bytte frø med noen råflinke folk. KVANN er en medlemsorganisasjon som jobber med kunnskap og vern av nyttevekster i Norge. Blir du medlem av Kvann får du tilgang til et nasjonalt nettverk av frøsamlere og frødelere. \nDet blir et innlegg av Guri Bugge\, daglig leder i KVANN. Det skal handle om KVANN og viktigheten av frødeling!
URL:https://kvann.no/arrangement/frobyttedag-pa-hardangerakademiet/
LOCATION:jonatunet\, Hestahagen 3\, Jondal\, 5627\, Norway
CATEGORIES:Fagtreff,Frø
ATTACH;FMTTYPE=image/jpeg:https://kvann.no/wp-content/uploads/2026/01/P10100522-scaled.jpg
ORGANIZER;CN="Hardangerakademiet":MAILTO:post@hardangerakademiet.no
END:VEVENT
BEGIN:VEVENT
DTSTART;TZID=Europe/Oslo:20260131T150000
DTEND;TZID=Europe/Oslo:20260131T190000
DTSTAMP:20260423T011550
CREATED:20260114T123450Z
LAST-MODIFIED:20260114T125240Z
UID:34750-1769871600-1769886000@kvann.no
SUMMARY:Frøbyttedag på Fokhol gård
DESCRIPTION:Frøbytte på Fokhol \nTa med deg fra eller plantemateriale og bytt til deg noen grønne skatter! \nKVANN – Kunnskap og vern om nytteplanter i Norge – har internasjonal frødag og det arrangeres frøbytte mange steder. Også på Fokhol gård. \nKl. 15:00 – 17:00 frøbytte i Gjestehuset \nKl. 17:00 – 19:00 de som vil kan også ta med en rett og dele middag etter frøbytte. Gjestehuset på Fokhol pleier å arrangere en åpen middag hver måned\, med fokus på næring og nærmiljø. \nVelkommen innom! \nEnglish: between 3 and 5 am you are welcome to come and swap seeds at the guest house in Fokhol. For those who would like to stay after this there will be a pot luck meal. Every month Fokhol guest house hosts an event themed local community and nourishment. Welcome!
URL:https://kvann.no/arrangement/frobyttedag-pa-fokhol-gard/
LOCATION:Fokhol gård\, Fokholgutua 216\, Stange\, 2335
CATEGORIES:Fagtreff,Frø
ATTACH;FMTTYPE=image/jpeg:https://kvann.no/wp-content/uploads/2025/09/fro-belgvekststudietur-scaled.jpg
END:VEVENT
BEGIN:VEVENT
DTSTART;TZID=Europe/Oslo:20260131T160000
DTEND;TZID=Europe/Oslo:20260131T180000
DTSTAMP:20260423T011550
CREATED:20251215T122046Z
LAST-MODIFIED:20251215T122046Z
UID:34621-1769875200-1769882400@kvann.no
SUMMARY:Frø og film
DESCRIPTION:Kom til frøbytte og hyggelig samvær i Økoparkens koselige kafé lørdag 31. januar kl. 16-18. \nHør og se hvordan man kan ta egne frø fra hagen. \nStjernehagen har gode eksempler på dyrking av planter til frø. Stjernehagen er demonstrasjonshage for økologiske prinsipper og driftes av Norsk Senter for Økologisk Landbruk\, NORSØK\, som er en stiftelse med formålet å fremme økologisk landbruk. \nHa med egne frø til å bytte. Det vil bli vist film om å ivareta gamle frøsorter og mulighet for å kjøpe kaffe og kake. \nArrangører KVANN og Stjernehagen på Tingvoll Gard
URL:https://kvann.no/arrangement/fro-og-film/
LOCATION:Tingvoll gard\, Gunnars veg 6 6630\, Tingvoll\, 6630\, Norway
CATEGORIES:Fagtreff
ATTACH;FMTTYPE=image/jpeg:https://kvann.no/wp-content/uploads/2025/09/fro-belgvekststudietur-scaled.jpg
ORGANIZER;CN="KVANN":MAILTO:medlem@kvann.no
END:VEVENT
END:VCALENDAR