﻿BEGIN:VCALENDAR
VERSION:2.0
PRODID:-//K V A N N - ECPv6.15.20//NONSGML v1.0//EN
CALSCALE:GREGORIAN
METHOD:PUBLISH
X-WR-CALNAME:K V A N N
X-ORIGINAL-URL:https://kvann.no
X-WR-CALDESC:Arrangement for K V A N N
REFRESH-INTERVAL;VALUE=DURATION:PT1H
X-Robots-Tag:noindex
X-PUBLISHED-TTL:PT1H
BEGIN:VTIMEZONE
TZID:Europe/Oslo
BEGIN:DAYLIGHT
TZOFFSETFROM:+0100
TZOFFSETTO:+0200
TZNAME:CEST
DTSTART:20250330T010000
END:DAYLIGHT
BEGIN:STANDARD
TZOFFSETFROM:+0200
TZOFFSETTO:+0100
TZNAME:CET
DTSTART:20251026T010000
END:STANDARD
BEGIN:DAYLIGHT
TZOFFSETFROM:+0100
TZOFFSETTO:+0200
TZNAME:CEST
DTSTART:20260329T010000
END:DAYLIGHT
BEGIN:STANDARD
TZOFFSETFROM:+0200
TZOFFSETTO:+0100
TZNAME:CET
DTSTART:20261025T010000
END:STANDARD
BEGIN:DAYLIGHT
TZOFFSETFROM:+0100
TZOFFSETTO:+0200
TZNAME:CEST
DTSTART:20270328T010000
END:DAYLIGHT
BEGIN:STANDARD
TZOFFSETFROM:+0200
TZOFFSETTO:+0100
TZNAME:CET
DTSTART:20271031T010000
END:STANDARD
END:VTIMEZONE
BEGIN:VEVENT
DTSTART;TZID=Europe/Oslo:20260324T163000
DTEND;TZID=Europe/Oslo:20260324T190000
DTSTAMP:20260423T034314
CREATED:20260227T102351Z
LAST-MODIFIED:20260227T102351Z
UID:35088-1774369800-1774378800@kvann.no
SUMMARY:Beredskapsåret 2026 - dyrk potet sjøl!
DESCRIPTION:Tid & Sted: 24. mars kl 16.30-19.00 / Kalnes videregående skole\, Sandtangen 85\, 1712 Grålum \nI en tid der egenberedskap står høyt på agendaen\, inviterer vi til en folkelig og faglig kveld på Kalnes VGS. Vi starter med varm Kalnessuppe og en kort introduksjon til gårdsdrifta. Deretter ser vi nærmere på Beredskapsåret og hvorfor egenberedskap er viktigere enn på lenge. \nLast ned program. \nDu får et historisk blikk på poteten og lansering av årets sorter fra KVANN. Norsk Landbruksrådgiving forklarer hvorfor sertifiserte settepoteter er avgjørende\, og NIBIO deler kunnskap om potetmangfold og framtidig matsikkerhet. \nKvelden avsluttes med konkrete råd om hvordan du kan styrke beredskapen i egen hage\, og lykkes med potetdyrking hjemme. \nFor deg med åker\, hage eller balkong. Velkommen til Kalnes! \nArrangører er: Kalnes VGS\, KVANN og Østfold fylkeskommune. Ved spørsmål\, kontakt Charlotte Forsberg. \nMeld deg på her.\n\nProgram: \n16.30 – Servering av Kalnessuppe \n17.00 – Velkommen til Kalnes – hva skjer på gårdsbruket her? v/ Tommy Eriksen\, assisterende rektor\, Kalnes vgs \n17.05 – Beredskapsåret og viktigheten av egenberedskap v/ Mads Gran Brandbu\, fungerende beredskapssjef\, Statsforvalteren i Østfold\, Buskerud\, Oslo og Akershus \n17.15 – Et historisk perspektiv på poteten\, og lansering av årets poteter fra KVANN v/ Ingrid Indergaard\, potetlaugsleder\, KVANN \n17.40 – Viktigheten av å bruke sertifiserte settepoteter & konsekvens av sykdomsspredning v/ Camilla Jacobsen Eng\, rådgiver potet\, NLR \n18.00 – Kaffepause \n18.15 – Hvordan sikrer vi potetmangfoldet i Norge? v/ Morten Rasmussen\, seniorrådgiver\, NIBIO \n18.35 – Viktigheten av beredskap i hagen\, og tips om hvordan man lykkes med å dyrke poteter i egen hage v/ Marthe Norderhaug\, forfatter og økoagronom\, Husmannshagan i Rakkestad. \n18.55 – Avrunding og vel hjem \nMeld deg på her.
URL:https://kvann.no/arrangement/beredskapsaret-2026-dyrk-potet-sjol/
LOCATION:Kalnes VGS\, Sandtangen 85\, Grålum\, 1712
CATEGORIES:Fagtreff
ATTACH;FMTTYPE=image/png:https://kvann.no/wp-content/uploads/2026/02/Dyrk-potet-sjol-Kalnes-595x800-1.png
END:VEVENT
END:VCALENDAR