﻿BEGIN:VCALENDAR
VERSION:2.0
PRODID:-//K V A N N - ECPv6.15.20//NONSGML v1.0//EN
CALSCALE:GREGORIAN
METHOD:PUBLISH
X-ORIGINAL-URL:https://kvann.no
X-WR-CALDESC:Arrangement for K V A N N
REFRESH-INTERVAL;VALUE=DURATION:PT1H
X-Robots-Tag:noindex
X-PUBLISHED-TTL:PT1H
BEGIN:VTIMEZONE
TZID:Europe/Oslo
BEGIN:DAYLIGHT
TZOFFSETFROM:+0100
TZOFFSETTO:+0200
TZNAME:CEST
DTSTART:20240331T010000
END:DAYLIGHT
BEGIN:STANDARD
TZOFFSETFROM:+0200
TZOFFSETTO:+0100
TZNAME:CET
DTSTART:20241027T010000
END:STANDARD
BEGIN:DAYLIGHT
TZOFFSETFROM:+0100
TZOFFSETTO:+0200
TZNAME:CEST
DTSTART:20250330T010000
END:DAYLIGHT
BEGIN:STANDARD
TZOFFSETFROM:+0200
TZOFFSETTO:+0100
TZNAME:CET
DTSTART:20251026T010000
END:STANDARD
BEGIN:DAYLIGHT
TZOFFSETFROM:+0100
TZOFFSETTO:+0200
TZNAME:CEST
DTSTART:20260329T010000
END:DAYLIGHT
BEGIN:STANDARD
TZOFFSETFROM:+0200
TZOFFSETTO:+0100
TZNAME:CET
DTSTART:20261025T010000
END:STANDARD
END:VTIMEZONE
BEGIN:VEVENT
DTSTART;TZID=Europe/Oslo:20250920T110000
DTEND;TZID=Europe/Oslo:20250920T160000
DTSTAMP:20260425T184906
CREATED:20250912T100144Z
LAST-MODIFIED:20250912T100144Z
UID:33354-1758366000-1758384000@kvann.no
SUMMARY:Grøn festival 2025 : Haust sjøl - mat fra åker og natur
DESCRIPTION:KVANN sitt lokale laug i Søre Sunnmøre blir med på Grønn Festival.  Her er programmet:\n\nDet vert Grøn festival i 2025 også\, den fjerde i rekkja\, takka vere generøs støtte frå @Sparebanken Møre som vert hovedsponsor dette året\, @Tussa og @Norges Naturvernforbund som også har bidrege med midlar!\n\n* Gjennom foredrag\, standar og verkstader vil vi fokusere på korleis vi kan ta vare på det vi dyrkar i hagen\, haustar i naturen og frå havet.\n* Det vert standar frå 11-16\, foredrag frå 12-13.45\, verkstader frå 14.30.16\, barneverkstad og leikekrok og kafé i heile opningstida.\n* Foredraga:• Annelise Chapman: Om kva vi kan nytte frå havet (tang og tare) og korleis vi kan bevare det• Erik Fooladi eller Kari Ryslett: Om konservering av mat• Jon Godal: om ymse måtar å ta vare på det me haustar frå naturen?\nVerkstadar:– Hermetisering\, sylting og safting – av frukt\, bær\, kjøt– Fermentering – ulike teknikkar?– Tørking i dehydrator\, i omn\, i luft (av sopp\, bær\, eple\, kjøt (lage turmat)\, fruktlær etc)– Sirkelhagen-når hauste? Korleis langtidslagre ulike grønsaker utan foredling (KVANN)\n\nFestivalen er i år støtta av Sparebanken Møre\, Tussa og Naturvernforbundet! Tusen takk!
URL:https://kvann.no/arrangement/gron-festival-2025-haust-sjol-mat-fra-aker-og-natur/
CATEGORIES:Festivaler
ATTACH;FMTTYPE=image/jpeg:https://kvann.no/wp-content/uploads/2025/09/485173127_1036545231853040_7797155455140401623_n.jpg
END:VEVENT
END:VCALENDAR