﻿BEGIN:VCALENDAR
VERSION:2.0
PRODID:-//K V A N N - ECPv6.15.20//NONSGML v1.0//EN
CALSCALE:GREGORIAN
METHOD:PUBLISH
X-ORIGINAL-URL:https://kvann.no
X-WR-CALDESC:Arrangement for K V A N N
REFRESH-INTERVAL;VALUE=DURATION:PT1H
X-Robots-Tag:noindex
X-PUBLISHED-TTL:PT1H
BEGIN:VTIMEZONE
TZID:Europe/Oslo
BEGIN:DAYLIGHT
TZOFFSETFROM:+0100
TZOFFSETTO:+0200
TZNAME:CEST
DTSTART:20240331T010000
END:DAYLIGHT
BEGIN:STANDARD
TZOFFSETFROM:+0200
TZOFFSETTO:+0100
TZNAME:CET
DTSTART:20241027T010000
END:STANDARD
BEGIN:DAYLIGHT
TZOFFSETFROM:+0100
TZOFFSETTO:+0200
TZNAME:CEST
DTSTART:20250330T010000
END:DAYLIGHT
BEGIN:STANDARD
TZOFFSETFROM:+0200
TZOFFSETTO:+0100
TZNAME:CET
DTSTART:20251026T010000
END:STANDARD
BEGIN:DAYLIGHT
TZOFFSETFROM:+0100
TZOFFSETTO:+0200
TZNAME:CEST
DTSTART:20260329T010000
END:DAYLIGHT
BEGIN:STANDARD
TZOFFSETFROM:+0200
TZOFFSETTO:+0100
TZNAME:CET
DTSTART:20261025T010000
END:STANDARD
END:VTIMEZONE
BEGIN:VEVENT
DTSTART;TZID=Europe/Oslo:20250304T183000
DTEND;TZID=Europe/Oslo:20250304T203000
DTSTAMP:20260424T130848
CREATED:20250211T134357Z
LAST-MODIFIED:20250218T082841Z
UID:30757-1741113000-1741120200@kvann.no
SUMMARY:Ski Hagelag: Foredrag med Andrew McMillion
DESCRIPTION:4. mars kommer Andrew McMillion til oss for å dele kunnskap og råd om økologisk dyrking\, bærekraftig design\, selvberging\, frø sanking og avl. I tillegg vil han snakke om Permakultur design av hager\, drivhus og gårder basert på mange års erfaring innen bærekraftig landbruk. \nVelkommen innom Ski Menighetshus til foredrag og en hyggelig hageprat! \nSted:\nSki Menighetshus  Vis i Google Map\nRådhussvingen 1\n1400 Ski\, Akershus / Nordre Follo \nPris:\nKr. 100\,-  som helst Vippses til Ski Hagelag #11199\nVis kvittering til kasserer ved inngang. \nHvordan vippser du beløpet?\nÅpne Vipps-appen. Velg Send -> Bedrift -> skriv: Ski hagelag -> Velg Ski hagelag #11199 -> skriv beløpet: 100 -> trykk “Neste \n\nHagelaget serverer kaffe og kake for anledningen – og det er muligheter for at det igjen blir loddsalg og premier. Vi gleder oss til å møtes igjen! \nAndrew McMillion driver hagen på Hurdal Gjestegård.  McMillion er plantefaglig koordinator og sitter i styret til KVANN (Kunnskap og Vern av Nytteplanter i Norge.) Han har drevet regenerative markedshager på Rolstad Gård og Brauterhagen i Nes de siste 10 årene.  McMillion har designet flere gårder og drivhus.  Han holder kurs og foredrag for hagelag\, biblioteker og skoler i økologisk dyrking\, Permakultur design og frøsanking.  Er du interessert så kan du lese mer om Andrew McMillion´s planter og frø på mcmillion.no
URL:https://kvann.no/arrangement/ski-hagelag-foredrag-med-andrew-mcmillion/
LOCATION:Ski Menighetshus\,Rådhussvingen 1\, 1400 Ski\, Ski Menighetshus\,Rådhussvingen 1\,\, Ski\, Ski\, 1400\, Norway
CATEGORIES:Dyrkingsmetoder,Foredrag,Frø,Kurs
ATTACH;FMTTYPE=image/jpeg:https://kvann.no/wp-content/uploads/2025/02/image003.jpg
ORGANIZER;CN="Ski hagelag":MAILTO:janette.brask@gmail.com
END:VEVENT
BEGIN:VEVENT
DTSTART;TZID=Europe/Oslo:20250311T183000
DTEND;TZID=Europe/Oslo:20250311T210000
DTSTAMP:20260424T130848
CREATED:20250110T223920Z
LAST-MODIFIED:20250110T223920Z
UID:30368-1741717800-1741726800@kvann.no
SUMMARY:Foredrag om frøsanking v/Andrew McMillion\, Aurskog-Høland hagelag
DESCRIPTION:Aurskog-Høland hagelag inviterer til medlemsmøte om frøsanking på Finstadbru hundesenter 11. mars kl 18:30 med Andrew McMillion. \nAndrew McMillion driver hagen på Hurdal gjestegård og sitter i styret til Kvann (Kunnskap og Vern av Nytteplanter i Norge). Han kommer og forteller om frøsanking og hvordan de velger ut grønnsaker og frø til norske forhold og forelder disse. Siden han holder til i Hurdal som har tilsvarende herdighetssone som hos oss er det lett å tips på grønnsaker som passer i Aurskog-Høland.
URL:https://kvann.no/arrangement/foredrag-om-frosanking-v-andrew-mcmillion-aurskog-holand-hagelag/
LOCATION:Finstadbru hundesportsenter\, Borstadv. 94\, Aurskog\, 1930\, Norway
CATEGORIES:Foredrag
ATTACH;FMTTYPE=image/jpeg:https://kvann.no/wp-content/uploads/2023/05/Torgdager_Youngstorget_Andrew6-scaled.jpg
END:VEVENT
BEGIN:VEVENT
DTSTART;TZID=Europe/Oslo:20250314T090000
DTEND;TZID=Europe/Oslo:20250314T113000
DTSTAMP:20260424T130848
CREATED:20250109T125323Z
LAST-MODIFIED:20250313T220521Z
UID:30333-1741942800-1741951800@kvann.no
SUMMARY:Økt norsk såvareproduksjon: Webinar om muligheter og utfordringer
DESCRIPTION:Norge produserer i dag svært lite såvarer som grønnsaksfrø og settehvitløk\, noe som gjør oss sårbare og gir begrensede muligheter for å dyrke sorter som er godt tilpasset vårt klima. En økning i norsk frøproduksjon vil ikke bare styrke vår selvforsyning\, men også gi oss bedre forutsetninger for å bevare og dyrke gamle\, robuste sorter. \nFor å møte denne utfordringen\, planlegger vi i samarbeid med Solhatt\, Klimasmart Landbruk Østfold og Norges Vel et webinar rettet mot potensielle såvareprodusenter. Webinaret vil gi innsikt i hva som kreves for å bli såvareprodusent\, hvilke forretningsmuligheter som finnes\, og de utfordringene som kan oppstå\, med et særlig fokus på økologisk produksjon. \nProgram: \n9:00 – 9:10 Velkomst og introduksjon med Merete Furuberg\, styreleder i KVANN \n9:10 – 9:30 Nødvendigheten av styrket selvforsyning: Annette Lindahl Raakil\, varaordfører i Østfold fylkeskommune og representant for Klima Østfold \n9:30 – 9:50 Praktisk frøavl: Jasper Kroon\, fagsjef i Solhatt \n9:50 – 10:00 pause \n10:00 – 10:10 Praktisk frøavl: Hans Gaffke\, rådgiver Solhatt \n10:10 – 10:30 Erfaring med settehvitløksproduksjon: Fredrik Magnussen\, bonde på Slæpen gård \n10:50 – 11:10 spørsmål og avslutning \nVi inviterer alle interesserte til å delta på dette informasjonsrike arrangementet\, som finner sted 14. mars fra kl. 09:00 til 11:30. Vi ser frem til å utforske mulighetene for en sterkere norsk frøproduksjon sammen med dere. \nKurset er gratis\, men supert med påmelding. Send påmelding til post@kvann.no\, slik at vi kan sende informasjon og opptak. Her er lenke til kurset: \nhttps://teams.microsoft.com/l/meetup-join/19%3ameeting_NWEyOTZlNzQtMmQ0Ny00M2ZjLThmYzctMTZhMDMxODk3YjJl%40thread.v2/0?context=%7b%22Tid%22%3a%229ef937f6-3b24-488e-b0c9-a6862cd750d9%22%2c%22Oid%22%3a%22b6b31b83-64a6-4ef1-aa0c-c24dc1d544fc%22%7d \n  \n  
URL:https://kvann.no/arrangement/okt-norsk-froproduksjon-webinar-om-muligheter-og-utfordringer-2/
CATEGORIES:Dyrkingsmetoder,Foredrag,Frø,Kurs
ATTACH;FMTTYPE=image/png:https://kvann.no/wp-content/uploads/2025/01/Okt-norsk-savareproduksjon-6.png
ORGANIZER;CN="KVANN":MAILTO:medlem@kvann.no
END:VEVENT
BEGIN:VEVENT
DTSTART;TZID=Europe/Oslo:20250327T180000
DTEND;TZID=Europe/Oslo:20250327T200000
DTSTAMP:20260424T130848
CREATED:20250313T225836Z
LAST-MODIFIED:20250314T113241Z
UID:31242-1743098400-1743105600@kvann.no
SUMMARY:Dyrking av hjartenøtter
DESCRIPTION:Velkomen til foredrag om dyrking av hjartenøtter (Juglans ailanthifolia var cordiformis) v/Oddmund Frøynes. Han har stått bak utviklinga av ein dyrkingsrettleiar for hjartenøtter som vart utarbeidd ved NIBIO Lofthus. Arrangementet er digitalt\, og du får tilsendt møtelenke når du kjøper billett.  \nHjartenøtt er ein ny art for kommersiell produksjon i Norge. Dei er ein vakker og velsmakande form for valnøtter som stammar frå Japan. Endå om det sporadisk er planta nokre valnøtt-tre gjennom tidene\, finst det lite og ikkje systematisert kunnskap om dyrking\, sortar og produktkvalitet under norske forhold. Erfaringar frå Danmark og Sør-Sverige er det næraste me kjem tilhøve som liknar dei beste dyrkingsområda i Norge. Dinest er forsking og kulturutvikling av valnøttproduksjonen i Canada det som truleg ligg nærast opp til dyrking i Norge. \nForedraget blir teke opp\, og opptaket blir sendt til dei som har kjøpt billett.
URL:https://kvann.no/arrangement/dyrking-av-hjartenotter/
CATEGORIES:Foredrag
ATTACH;FMTTYPE=image/jpeg:https://kvann.no/wp-content/uploads/2025/02/IMG_7954-scaled-e1741906838960.jpg
END:VEVENT
BEGIN:VEVENT
DTSTART;TZID=Europe/Oslo:20250331T180000
DTEND;TZID=Europe/Oslo:20250331T203000
DTSTAMP:20260424T130848
CREATED:20250313T095755Z
LAST-MODIFIED:20250313T095755Z
UID:31210-1743444000-1743453000@kvann.no
SUMMARY:Et mangfold av bærekraftige matplanter: Kurs med Stephen Barstow på Lystgården i Bergen
DESCRIPTION:Arrangør: Stiftelsen Lystgården & Bybonden i Bergen \nEt mangfold av bærekraftige matplanter \nBli med på en unik reise inn i den spiselige hagen sammen med Stephen Barstow – kjent som “The Extreme Salad Man” og en av Norges fremste eksperter på flerårige matplanter! \nStephen har i over 40 år samlet\, dyrket og eksperimentert med spiselige planter fra hele verden – med særlig fokus på flerårige vekster som kommer igjen år etter år. I hagene sine i Malvik og Trondheim har han over 2000 forskjellige spiselige planter\, og han er kjent for hans mangfolds salater\, inspirert av Middelhavsdietten og har i over  20 år hatt verdensrekord\, med en salat med 537 planter hjemme i Den Spiselige Hagen! \nI dette kurset deler Stephen sin unike kunnskap og lidenskap for en mer bærekraftig og robust måte å dyrke mat på. Du vil lære om: \n🌱 Flerårige grønnsaker som trives i vårt nordlige klima \n🌱 Hvordan du kan skape en vakker\, naturvennlig og spiselig hage som gir mat gjennom hele sesongen \n🌱 Spennende planter og prosjekter han holder på med akkurat nå \nHvorfor flerårige matplanter?\nFlerårige matplanter krever mindre vedlikehold\, er tilpasset lokale forhold og tåler et varierende klima. De bidrar til økt biologisk mangfold og kan være en viktig del av fremtidens matsikkerhet. \nEnten du er nybegynner eller erfaren dyrker\, vil dette foredraget gi deg masse inspirasjon og konkrete ideer til hvordan du kan gjøre hagen eller balkongen din både vakker\, spiselig og bærekraftig. \nOm foredragsholderen:\nStephen Barstow er forfatter av boka Around the World in 80 Plants\, er gjesteforsker på Ringve Botaniske Hagen i Trondheim hvor han har anlagt Løkhagen Chicago og styremedlem av Væres Venners Felleshagen hvor han har anlagt Verdenshagen \, en samling av over 200 flerårige matplanter fra hele verden. Han regnes som en pioner innen permakultur og flerårige matplanter. Han holder foredrag og kurs internasjonalt og er en inspirerende formidler med et smittende engasjement for plantenes verden. \nBillett finner du her – medlemmer av KVANN får rabattert pris.  \nForedraget vil vare i 2 timer + og det vil være rom for spørsmål. \nVelkommen!
URL:https://kvann.no/arrangement/et-mangfold-av-baerekraftige-matplanter-kurs-med-stephen-barstow-pa-lystgarden-i-bergen/
LOCATION:Lystgården\, Kanonhaugen 39\, Bergen\, 5097\, Norge
CATEGORIES:Foredrag
ATTACH;FMTTYPE=image/png:https://kvann.no/wp-content/uploads/2025/02/Stephen-Barstow-video.png
END:VEVENT
END:VCALENDAR