﻿BEGIN:VCALENDAR
VERSION:2.0
PRODID:-//K V A N N - ECPv6.15.20//NONSGML v1.0//EN
CALSCALE:GREGORIAN
METHOD:PUBLISH
X-ORIGINAL-URL:https://kvann.no
X-WR-CALDESC:Arrangement for K V A N N
REFRESH-INTERVAL;VALUE=DURATION:PT1H
X-Robots-Tag:noindex
X-PUBLISHED-TTL:PT1H
BEGIN:VTIMEZONE
TZID:Europe/Oslo
BEGIN:DAYLIGHT
TZOFFSETFROM:+0100
TZOFFSETTO:+0200
TZNAME:CEST
DTSTART:20240331T010000
END:DAYLIGHT
BEGIN:STANDARD
TZOFFSETFROM:+0200
TZOFFSETTO:+0100
TZNAME:CET
DTSTART:20241027T010000
END:STANDARD
BEGIN:DAYLIGHT
TZOFFSETFROM:+0100
TZOFFSETTO:+0200
TZNAME:CEST
DTSTART:20250330T010000
END:DAYLIGHT
BEGIN:STANDARD
TZOFFSETFROM:+0200
TZOFFSETTO:+0100
TZNAME:CET
DTSTART:20251026T010000
END:STANDARD
BEGIN:DAYLIGHT
TZOFFSETFROM:+0100
TZOFFSETTO:+0200
TZNAME:CEST
DTSTART:20260329T010000
END:DAYLIGHT
BEGIN:STANDARD
TZOFFSETFROM:+0200
TZOFFSETTO:+0100
TZNAME:CET
DTSTART:20261025T010000
END:STANDARD
END:VTIMEZONE
BEGIN:VEVENT
DTSTART;TZID=Europe/Oslo:20250402T183000
DTEND;TZID=Europe/Oslo:20250402T203000
DTSTAMP:20260424T114340
CREATED:20250325T172818Z
LAST-MODIFIED:20250325T172818Z
UID:31368-1743618600-1743625800@kvann.no
SUMMARY:Flerårige grønnsaker som både pynter og tiltrekker pollinerende insekter. Foredrag av Stephen Barstow i Vestfold
DESCRIPTION:Staudeklubben Vestfold har årsmøte onsdag 2. april. Etter dette holder Stephen Barstow foredrag:\nFlerårige grønnsaker som både pynter og tiltrekker pollinerende insekter. \nStaudeklubben skriver:\nSTEPHEN BARSTOW kommer til oss! Kjenner du ikke til mannen med den spiselige hagen? Han som har dyrket minst 1500 spiselige vekster\, de fleste flerårige grønnsaker? Mange av dem er dessuten vakre og er også høyt verdsatt av insektene. Kom på møtet\, her blir det mye nytt å lære om hvordan man kan dyrke mat på en mer miljøvennlig måte. Stephen Barstow bor i Malvik. Han er godt kjent i plantesamlermiljøet og var leder i Foreningen\nKVANN (Kunnskap og Vern av Nytteplanter i Norge; kvann.no)\, nå i plantefaglig utvalg. Han forteller at han selv er plantesamler\, men det handler kun om spiselige planter. Han har opp gjennom de siste 40 årene testet over 8.000 forskjellige planter\, og samlingen har vært på over 2.000. \nSom forfatter av boken «Around The World in 80 Plants» introduserte han sine 80 favoritt- flerårige grønnsaker som han dyrker i Trøndelag. Samtidig med at han er selvforsynt med et mangfold av grønnsaker\, frukt og bær\, rommer hans hager et stort biomangfold\, særlig insekter\, og de færreste gjør noe skade. \nNoen eksemplarer av boken «Around the World in 80 plants» blir å få kjøpt på møtet.\nDette møtet holdes på Storås Skiarena\, Stokke kl 1830.  \nKVANN medlemmer er velkommen. \nSe https://staudeklubben-vestfold.blogspot.com for mer informasjon
URL:https://kvann.no/arrangement/flerarige-gronnsaker-som-bade-pynter-og-tiltrekker-pollinerende-insekter-foredrag-av-stephen-barstow-i-vestfold/
LOCATION:Storås skiarena\, Stokke Ravei 227\, Stokke\, 3160\, Norway
CATEGORIES:Foredrag
ATTACH;FMTTYPE=image/jpeg:https://kvann.no/wp-content/uploads/2023/11/stephen_1.16.jpg
END:VEVENT
BEGIN:VEVENT
DTSTART;TZID=Europe/Oslo:20250423T184500
DTEND;TZID=Europe/Oslo:20250423T210000
DTSTAMP:20260424T114340
CREATED:20250110T214339Z
LAST-MODIFIED:20250110T215500Z
UID:30351-1745433900-1745442000@kvann.no
SUMMARY:Bærekraftig dyrking ved Andrew McMillion (Ullensaker hagelag)
DESCRIPTION:Velkommen til hagelagsmøte om bærekraftig dyrking ved Andrew McMillion fra Hurdal Gjestegård. \nAndrew McMillion – En lokal frøhelt!\nRiktig plante på riktig sted er en forutsetning for å lykkes med god avling. Arbeidet med dette har Andrew McMillion tatt et skritt videre og jobber iherdig med avling av egne frø fra lokalt tilpassede sorter. Først på Rolstad Gård i Fenstad og nå på Hurdal Gjestegård (tidligere prestegård). Han er lidenskapelig opptatt av samspillet i naturen og økologisk dyrking på en bærekraftig måte. Her kan vi lære masse om kortreist dyrking og veien til suksess. Se film fra Hurdal prestegård her: https://www.youtube.com/watch?v=UmdLKWb7iHc \nLitt om foredragsholder:\nAndrew McMillion har egentlig sin bakgrunn fra IT bransjen\, men har “konvertert” til den “grønne” siden og blitt småbruker i Hurdal\, etter å ha drevet Rolstad Gård i Fenstad og Brauterhagen i Nes gjennom en årrekke. Han er plantefaglig koordinator og styremedlem i KVANN og kaller seg selv for en ekte frøfanatiker. Andrew holder kurs i frø-reproduksjon\, jordhelse\, Grønnsaker i en trillebårdyrking av grønnsaker under ekstreme forhold\, drivhusdesign/bruk og økologi. Han forvalter frø fra over 100 forskjellige sorter planter. Filosofien som ligger til grunn er at frø bør tilpasses lokale forhold og ikke komme fra store selskaper i utlandet. Andrew tar vare på sorter som han mener er spesielt egnet for dyrking i området her hvor vi bor. En skikkelig entusiast med andre ord. \nAndrew tar også med seg frø for salg\, så kan du selv prøve deg på kortreist dyrking i egen hage. Han har en egen blogg og nettside som du kan lese mer på – lenke her: https://mcmillion.no/ \nInngang kr 60\,- som dekker enkel servering. \nDet blir loddsalg med fine premier.\nAlle er hjertelig velkommen!
URL:https://kvann.no/arrangement/baerekraftig-dyrking-ved-andrew-mcmillion-ullensaker-hagelag/
LOCATION:Frivillinghetens hus\, Sveav. 36\, Jessheim\, 2050
CATEGORIES:Foredrag
ATTACH;FMTTYPE=image/jpeg:https://kvann.no/wp-content/uploads/2023/02/Andrew_Mcmillion.jpg
END:VEVENT
END:VCALENDAR