﻿BEGIN:VCALENDAR
VERSION:2.0
PRODID:-//K V A N N - ECPv6.15.20//NONSGML v1.0//EN
CALSCALE:GREGORIAN
METHOD:PUBLISH
X-ORIGINAL-URL:https://kvann.no
X-WR-CALDESC:Arrangement for K V A N N
REFRESH-INTERVAL;VALUE=DURATION:PT1H
X-Robots-Tag:noindex
X-PUBLISHED-TTL:PT1H
BEGIN:VTIMEZONE
TZID:Europe/Oslo
BEGIN:DAYLIGHT
TZOFFSETFROM:+0100
TZOFFSETTO:+0200
TZNAME:CEST
DTSTART:20240331T010000
END:DAYLIGHT
BEGIN:STANDARD
TZOFFSETFROM:+0200
TZOFFSETTO:+0100
TZNAME:CET
DTSTART:20241027T010000
END:STANDARD
BEGIN:DAYLIGHT
TZOFFSETFROM:+0100
TZOFFSETTO:+0200
TZNAME:CEST
DTSTART:20250330T010000
END:DAYLIGHT
BEGIN:STANDARD
TZOFFSETFROM:+0200
TZOFFSETTO:+0100
TZNAME:CET
DTSTART:20251026T010000
END:STANDARD
BEGIN:DAYLIGHT
TZOFFSETFROM:+0100
TZOFFSETTO:+0200
TZNAME:CEST
DTSTART:20260329T010000
END:DAYLIGHT
BEGIN:STANDARD
TZOFFSETFROM:+0200
TZOFFSETTO:+0100
TZNAME:CET
DTSTART:20261025T010000
END:STANDARD
END:VTIMEZONE
BEGIN:VEVENT
DTSTART;TZID=Europe/Oslo:20250506T180000
DTEND;TZID=Europe/Oslo:20250506T200000
DTSTAMP:20260424T101142
CREATED:20250305T201620Z
LAST-MODIFIED:20250305T201620Z
UID:31115-1746554400-1746561600@kvann.no
SUMMARY:Stephen Barstow: Gode skoghageplanter for Trøndelag
DESCRIPTION:Sopp- og nyttevekstforeningen inviterer til foredrag med Stephen Barstow om skoghageplanter på Presthus gård ved Trondheim\, og medlemmer av KVANN kan få gratis billett! \nStephen Barstow forteller om sine sine favoritter blant  skoghageplantene. Hans egen skoghage (The Edible Garden) i Malvik er over 40 år gammel. Han forteller hvordan hagen ble til en skoghage og hvordan stedet i dag rommer et stort biomangfold.\nEn skoghage bygges opp av forskjellige skikt: a) høye trær; b) lave trær; c) busker; d) staudegrønnsaker og e) bunndekkende planter og vi får en gjennomgang av velegnete planter for Trøndelag. \nStephen Barstow er en britisk-norsk plantenerd\, forfatter og ekspert på flerårige grønnsaker. Han er kjent for boken Around the World in 80 Plants og sitt arbeid med å fremme spiselige\, flerårige planter. Barstow er en sentral figur i KVANN (Norwegian Seed Savers) og har forsket på allium-arter ved Ringve Botaniske Hage i Trondheim. Han er spesielt kjent for sin omfattende samling av flerårige grønnsaker og for å ha laget en salat med over 530 ulike arter! \nForedraget er gratis for medlemmer av Sopp- og nyttevekstforeningen eller KVANN\, og koster 200 kr for ikke-medlem. På grunn av begrenset plass\, kreves det påmelding. Meld deg på her hvis du har et medlemskap i Sopp- og nyttevekstforeningen\, hvis du kun har medlemskap i KVANN sender du en internmelding til Stephen på kvann.no \nHar du ikke medlemskap noen av stedene\, så kan du kjøpe billett her.
URL:https://kvann.no/arrangement/stephen-barstow-gode-skoghageplanter-for-trondelag/
LOCATION:Presthus gård\, Presthusvegen 31A\, Ranheim\, 7056\, Norge
CATEGORIES:Foredrag
END:VEVENT
BEGIN:VEVENT
DTSTART;TZID=Europe/Oslo:20250506T190000
DTEND;TZID=Europe/Oslo:20250506T203000
DTSTAMP:20260424T101142
CREATED:20250304T200457Z
LAST-MODIFIED:20250505T213758Z
UID:31098-1746558000-1746563400@kvann.no
SUMMARY:Beredskapshagar i Hardanger
DESCRIPTION:TYSDAG 6. MAI KL 19.00 \nINVITERER HERAND KVINNE-OG FAMILIELAG I SAMARBEID MED «KVANN» (kunnskap om vern av nytteplanter i Norge) TIL OPE MØTE PÅ HERAND KULTURHUS OG EIN PRAT OM BEREDSKAPSHAGAR \n-Kvifor må vi dyrke meir av vår eigen mat?\n-Kvifor er det viktig å ta vare variasjonen i dei gamle\nnorske nytteplantene?\n-Kva kan vere lurt å dyrke i Hardanger?\n-Korleis kan du lære meir om beredskapsdyrking? \nGuri Bugge frå KVANN og Una Eiken frå Herand Kvinneog familielag deler kunnskap\, erfaringar\, tips\, frø\, mm.\nog råd om gode bøker ein kan låne på biblioteket.\nOG DET BLIR EIN LITEN SMAK AV BEREDSKAPSMAT FRÅ NATUREN \nDet er gratis og ope for alle!
URL:https://kvann.no/arrangement/beredskapshagar-i-hardanger/
LOCATION:Herand kulturhus\, Herandsvegen 359\, Herand\, 5628
CATEGORIES:Foredrag
END:VEVENT
BEGIN:VEVENT
DTSTART;TZID=Europe/Oslo:20250513T180000
DTEND;TZID=Europe/Oslo:20250513T193000
DTSTAMP:20260424T101142
CREATED:20250511T095652Z
LAST-MODIFIED:20250511T095652Z
UID:32072-1747159200-1747164600@kvann.no
SUMMARY:Flerårige urter\, flerårige under
DESCRIPTION:Dette kurset handler om dyrking\, tilberedelse og tradisjonell bruk av tre flerårige urter. Er du nysgjerrig på dyrking av flerårige urter? Har du noen flerårige urter i hagen som du ikke har anvendt? Har du lyst til å dele flerårige urter med andre i ditt nærområde? Ta et lite dykk inn i urtenes verden med dette nettkurset!\nDe flerårige urtene som skal diskuteres på dette kurset er pepperrot\, prikkperikum\, og timian. Vi snakker om dyrking av alle tre\, så skal vi snakke om tørking\, lagring\, tilberedelse og kulturarv. Innen tilberedning snakker vi om eddik-uttrekk\, olje-uttrekk og te.\nNettkurset er arrangert av Permakulturforeningen og ledes av Mari Jerstad fra KVANN (Kunnskap og Vern av Nytteplanter i Norge). Mari har bakgrunn på Sogn jord- og hagebruksskolen\, bachelor innen medisinske planter og senere en etnobotanisk masteroppgave om forståelse og anvendelse av planter på vestlandet. I dag jobber hun med Urtearven i KVANN\, der hun ser på gamle norske urter og tilhørende tradisjoner. Les mer om Urtearven her: https://kvann.no/urtearven/\nGratis for medlemmer av Norsk Permakultuforening og KVANN.\nIkke-medlem: 200\,-\nMedlemskap i Norsk Permakulturorening koster 400\,- per år. Bli medlem her: https://www.permakultur.no/bidra/medlem/\nPåmelding: https://zubarus.com/signup.php?eventId=5424\nLogin for medlemmer:Brukernavn er ditt mobilnummer (eller epost-adresse hvis vi ikke har et mobilnummer registrert på deg).Har du glemt passordet så kan du be om å få tilsendt et nytt på sms/epost ved å bruke “Glemt Passord”-linken som finnes her: https://www.permakultur.no/min-side/\n\nBildet er tatt av Wiktoria Dobrowolska.
URL:https://kvann.no/arrangement/flerarige-urter-flerarige-under/
LOCATION:Nettmøte\, Norge
CATEGORIES:Foredrag,Kurs
ATTACH;FMTTYPE=image/jpeg:https://kvann.no/wp-content/uploads/2025/05/Mari-i-urtehagen-pa-Losaeter-foto-kreditering-Wiktoria-Dobrowolska.jpg
ORGANIZER;CN="Permakulturforeningen":MAILTO:post@permakultur.no
END:VEVENT
END:VCALENDAR