﻿BEGIN:VCALENDAR
VERSION:2.0
PRODID:-//K V A N N - ECPv6.15.20//NONSGML v1.0//EN
CALSCALE:GREGORIAN
METHOD:PUBLISH
X-WR-CALNAME:K V A N N
X-ORIGINAL-URL:https://kvann.no
X-WR-CALDESC:Arrangement for K V A N N
REFRESH-INTERVAL;VALUE=DURATION:PT1H
X-Robots-Tag:noindex
X-PUBLISHED-TTL:PT1H
BEGIN:VTIMEZONE
TZID:Europe/Oslo
BEGIN:DAYLIGHT
TZOFFSETFROM:+0100
TZOFFSETTO:+0200
TZNAME:CEST
DTSTART:20240331T010000
END:DAYLIGHT
BEGIN:STANDARD
TZOFFSETFROM:+0200
TZOFFSETTO:+0100
TZNAME:CET
DTSTART:20241027T010000
END:STANDARD
BEGIN:DAYLIGHT
TZOFFSETFROM:+0100
TZOFFSETTO:+0200
TZNAME:CEST
DTSTART:20250330T010000
END:DAYLIGHT
BEGIN:STANDARD
TZOFFSETFROM:+0200
TZOFFSETTO:+0100
TZNAME:CET
DTSTART:20251026T010000
END:STANDARD
BEGIN:DAYLIGHT
TZOFFSETFROM:+0100
TZOFFSETTO:+0200
TZNAME:CEST
DTSTART:20260329T010000
END:DAYLIGHT
BEGIN:STANDARD
TZOFFSETFROM:+0200
TZOFFSETTO:+0100
TZNAME:CET
DTSTART:20261025T010000
END:STANDARD
END:VTIMEZONE
BEGIN:VEVENT
DTSTART;TZID=Europe/Oslo:20250610T170000
DTEND;TZID=Europe/Oslo:20250610T200000
DTSTAMP:20260424T082415
CREATED:20250313T193034Z
LAST-MODIFIED:20250313T193034Z
UID:31225-1749574800-1749585600@kvann.no
SUMMARY:Fra plante til pille
DESCRIPTION:Vi skal snakke om den historiske med utviklingen av medisinen\, og vi snakker om hvordan planten har vært brukt til helseformål gjennom historien. Dette kurset tar utgangspunkt i biomedisinske preparat. Vi legger vekt på at plantene ikke skal brukes i stedet for det biomedisinske preparatet\, for det er ikke det samme.\n\nDette er et teoretisk innlegg\, men der det er mulig viser vi frem slektninger av de aktuelle plantene som vokser på Losæter. Kurset er ment til å gi historiske perspektiv. Vi skal ikke gi noen form for medisinsk råd. Vi skal i utgangspunktet snakke om Aspirin\, Morfin\, Revebjelle\, Snøklokke\, og Cellegift.\n\nHvor: Losæter i OsloKursleder: Mari jerstad og Francesca TullioPris: gratis\n\nUrtealliansen er et team urteglade folk som møttes i urtehagen på Losæter. Vi holder kurs og foredrag med tema dyrking\, foredling og bruk av urter samt kunst med planter. Dette kurset er støttet av SparebankstiftelsenDNB gjennom foreningen Losæter.\n\nKurset er også en del av prosjektet Urtearven ledet av KVANN.
URL:https://kvann.no/arrangement/fra-plante-til-pille/
LOCATION:Losæter\, Kongshavnveien\, Bjørvika\, Oslo\, Norge
CATEGORIES:Foredrag,Kurs
ATTACH;FMTTYPE=image/jpeg:https://kvann.no/wp-content/uploads/2025/03/IMG_20240321_162000.jpg
END:VEVENT
BEGIN:VEVENT
DTSTART;TZID=Europe/Oslo:20250620T170000
DTEND;TZID=Europe/Oslo:20250620T203000
DTSTAMP:20260424T082415
CREATED:20250510T082012Z
LAST-MODIFIED:20250516T190227Z
UID:32054-1750438800-1750451400@kvann.no
SUMMARY:Spiselige Skoghage Planter med Stephen Barstow
DESCRIPTION:Det er en stund siden Stephen Barstow var I Hurdal. Nå kommer han på besøk for å snakke om plantene han elsker mest fra hans Spiselig Skogshage i Malvik utenfor Trondheim. \nStephen var mye i Hurdal før og lagde en rapport for KVANN og Permakulturforeningen i 2019 med titel «Prestegårdshagen i Hurdal: matinspirasjoner fra fortiden og for fremtiden» der han kom med forslag på hvilken planter han anbefaler vi etablerer her. \nHurdal Prestegård er et historisk sted på mange måter. Spesielt for KVANN og Permakulturforeningen var det her Schubelers hager ble vedtatt som et satsningsområde. Nå er det snart 60 gårder med i netverket over hele landet! \nDet var også her et permakultur kurs ble holdt med Jan Bang og Stephen Barstow der ideen om Schubelers Hager først ble lansert. Nordisk Permakultur Festival ble også holdt her i 2013. \nVi håper mange plante og hage interesserte tar anledningen til å komme og høre på Stephen. Vi tar også en befaring i hagen om det som vi har etablert de siste årene og hva vi ser for oss vi skal etablere her i årene framover. \nHagevandring: 17:00-18:00 \nForedrag 18:00-20:00 \nBoksalg 20:00-20:30 \nArrangementet er gratis og åpent for alle. \nHer er en liten video fra 2024 fra Hurdal Gjestegård. \nhttps://youtu.be/UmdLKWb7iHc?si=56-iAIDLpfw6fSuX
URL:https://kvann.no/arrangement/spiselige-skogshage-planter-med-stephen-barstow/
LOCATION:Hurdal Gjestegård\, Landsbyvegen 1\, Hurdal\, Hurdal\, 2090\, Norway
CATEGORIES:Åpne hager,Fagtreff,Foredrag
ATTACH;FMTTYPE=image/webp:https://kvann.no/wp-content/uploads/2025/05/californianesle20barstow.png.webp
ORGANIZER;CN="KVANN":MAILTO:medlem@kvann.no
END:VEVENT
END:VCALENDAR