﻿BEGIN:VCALENDAR
VERSION:2.0
PRODID:-//K V A N N - ECPv6.15.20//NONSGML v1.0//EN
CALSCALE:GREGORIAN
METHOD:PUBLISH
X-ORIGINAL-URL:https://kvann.no
X-WR-CALDESC:Arrangement for K V A N N
REFRESH-INTERVAL;VALUE=DURATION:PT1H
X-Robots-Tag:noindex
X-PUBLISHED-TTL:PT1H
BEGIN:VTIMEZONE
TZID:Europe/Oslo
BEGIN:DAYLIGHT
TZOFFSETFROM:+0100
TZOFFSETTO:+0200
TZNAME:CEST
DTSTART:20240331T010000
END:DAYLIGHT
BEGIN:STANDARD
TZOFFSETFROM:+0200
TZOFFSETTO:+0100
TZNAME:CET
DTSTART:20241027T010000
END:STANDARD
BEGIN:DAYLIGHT
TZOFFSETFROM:+0100
TZOFFSETTO:+0200
TZNAME:CEST
DTSTART:20250330T010000
END:DAYLIGHT
BEGIN:STANDARD
TZOFFSETFROM:+0200
TZOFFSETTO:+0100
TZNAME:CET
DTSTART:20251026T010000
END:STANDARD
BEGIN:DAYLIGHT
TZOFFSETFROM:+0100
TZOFFSETTO:+0200
TZNAME:CEST
DTSTART:20260329T010000
END:DAYLIGHT
BEGIN:STANDARD
TZOFFSETFROM:+0200
TZOFFSETTO:+0100
TZNAME:CET
DTSTART:20261025T010000
END:STANDARD
END:VTIMEZONE
BEGIN:VEVENT
DTSTART;TZID=Europe/Oslo:20250807T180000
DTEND;TZID=Europe/Oslo:20250807T193000
DTSTAMP:20260424T053601
CREATED:20250728T074101Z
LAST-MODIFIED:20250728T080130Z
UID:32975-1754589600-1754595000@kvann.no
SUMMARY:Spiselige stueplanter
DESCRIPTION:Stueplanter er fantastiske. De kan dyrkes på en vinduskarm året rundt\, i hus\, leilighet og studenthybel. De varer i årevis\, uten at man måtte så\, luke eller kjempe mot snegler og sultne rådyr.\nHadde det ikke vært flott om de også kunne gi oss mat?\n.\nDette er del to av foredraget spiselige stueplanter. Det betyr at Kim Sølve skal ta for seg en rekke planter han ikke diskuterte på første del av foredraget. Det er åpent for alle\, så du må ikke ha vært med på første foredrag for å delta på denne. Men\, om du vil\, kan du se opptak av første foredrag: https://www.youtube.com/watch?v=ix0XigrDd6o\n.\nI denne forelesningen skal Kim Sølve Jacobsen fortelle om hvilke spiselige planter som fungerer bra som stueplanter og hvordan man selv\nkan oppdage helt nye spiselige stueplanter.\n.\nOm Kim Sølve\nHan er interessert i alt som kan spises og dyrker flerårige spiselige planter i hagen i tillegg til å sanke spiselige ville vekster i naturen. Gjennom flere år har han eksperimentert med forskjellige spiselige planter for å finne ut hvilke som kan fungerer bra som stueplanter. Han har rekruttert frivillige hjelpere til å test- dyrke forskjellige spiselige planter i sine hjem\, sånn at man får prøvd ut et større antall arter under flere forskjellige forhold. Han har funnet mange fine og spiselige planter som kan dyrkes i de tusen hjem. Kim Sølve er førsteamanuensis ved universitetet i sør-øst Norge hvor han underviser i tradisjonshåndverk og hvordan bruke naturen til å lage nyttige ting.\n.\nDette kurset er en del av prosjektet Urtearv : planter i levende minne\, støttet av SparebankstiftelsenDNB.\n.\nFor å bli med på møte trykk her!
URL:https://kvann.no/arrangement/spiselige-stueplanter-2/
LOCATION:Nettmøte\, Norge
CATEGORIES:Dyrkingsmetoder,Foredrag,Kurs
ATTACH;FMTTYPE=image/jpeg:https://kvann.no/wp-content/uploads/2025/07/490466480_1083356327167675_1709099661234598088_n.jpg
ORGANIZER;CN="KVANN":MAILTO:medlem@kvann.no
END:VEVENT
BEGIN:VEVENT
DTSTART;VALUE=DATE:20250820
DTEND;VALUE=DATE:20250822
DTSTAMP:20260424T053601
CREATED:20250122T151739Z
LAST-MODIFIED:20250811T170825Z
UID:30557-1755648000-1755820799@kvann.no
SUMMARY:Urtearv fagseminar
DESCRIPTION:Et spennende fagseminar med faglig påfyll og inspirasjon. \nPå dagtid onsdag 20. august og torsdag 21. august har vi faglig innhold passende for interesserte folk inkludert pedagoger\, dyrkere\, etnobotanikere\, museumsformidlere\, og andre innen formidling og bevaring av planter og urtearv. På ettermiddag/kveldstid begge dager blir det noe for hele familien! Ingen forkunnskaper nødvendig\, ta med deg barnebarn\, en eldre tante og naboene. \nOnsdag 20 august: \nKl. 10:00 Omvisning inne og ute på Linderud gård \nKl. 11:00 velkomst \nKl. 11:15 Introduksjon og litt historikk med Stephen Barstow \nKl. 12:00 Lunsj \nKl. 13:00 Urtearv Workshop: urtenes historier og lokalt engasjement \nKl. 13:50 Pause \nKl. 14:00 Innlegg ved Hildur Hauksdottir: erfaringer fra Urtehagen på Domkirkeodden \nKl. 14:45 Panelsamtale: Anneleen Kool\, Stephen Barstow\, Åsmund Asdal og Hildur Hauksdottir \nKl. 15:30 Pause \nKl. 15:45 Innlegg med Anneleen Kool\, Tøyen Botaniske Hage \nKl. 16:30 Middag \nKl. 17:30 konsert \nKl. 18:30 Avslutning for dagen \nOnsdag 20. august / barn og familie: \nKl. 17:30 Urtetur med lek : lær 5 planter \nKl. 18:00 Muntlig fortelling om urter \nTorsdag 21. august \nKl. 10:00 Utplanting av kvann i hagen (parallelt) \nKl. 10:00 Urter til mat og drikke : en samtale (parallelt) med Rita Amundsen \nKl. 12:00 Lunsj \nKl. 13:15 Innlegg ved Åsmund Asdal\, NordGen og Frøhvelv på Svalbard \nKl. 14:00 pause \nKl. 14:15. Presentasjon fra verksteder begge dagene \nKl. 14:30 Avrunding med Mari Jerstad / Urtearv \nKl. 15:00 avslutning av voksenprogrammet \nTorsdag 21. august / barn og familie: \nKl. 10:00 Smak og lek i den historiske kjøkkenhagen \nKl. 10:30 forestilling \nKl. 11:30 Familieprogram avsluttes \n  \nBarn er gratis\, det er også gratis med voksne som følger barn. For voksenprogrammet koster det 900 kr for vanlig billett og 500 kr for KVANN medlemmer og representanter for Urtearv samarbeidsorganisasjoner. \nBarneprogrammet er hovedsakelig utendørs\, her er det gratis for voksne som kommer i følge med barn også. Selv om det er gratis er det begrenset antall billetter\, så “kjøp” gjerne en billett per barn. Programmet passer for barn fra 5 år og oppover (med følge) eller fra 12 og oppover (uten følge). \nBiletter er tilgjengelig her. \nPåmeldingsfrist: fredag 15 august. \n  \n\nMer om innholdet: \nInnledning med ekstrem salatmannen Stephen Barstow \nBarstow deler om prosjekt for Genressurssenteret om gamle flerårige matplanter. Det innebar dokumentasjon av gamle urter som var innsamlet og undersøkelse av behov for videre innsamling. Barstow forteller mer inngående om et utvalg av spesielt spennende urter! Foredraget blir en smakebit av smakfulle urter\, som senere følges opp med to nettforedrag utdypende om mangfoldet av urter i Trøndelag og Allium for norske forhold. \nRita Amundsen om bruk og konservering av urter som vokser på Linderud gård. \nHer viser hun frem tilberedning av bl.a. urtesalt\, urteoljer\, urtelikør\, urtesmør\, og andre gode tips og triks. Noe av det som lages blir servert på lunsjen etterpå. \nAnneleen Kool\, leder for Botanisk Hage Oslo \nSelv om det ikke forskes like mye på norske urter som plantemedisin som før\, kan de fortsatt gi opphav til nye medisiner. For eksempel når det gjelder immunforsvaret og tarmfloraen. I Botanisk hage i Oslo dyrker vi planter fra historiske steder som blir testet for nyttige stoffer. Resultatene viser hvor viktig det er å ta vare på disse plantene. \n\n  \nArrangementet er støttet av Sparebankstiftelsen DNB og er en del av prosjektet Urtearven der KVANN jobber med kartlegging\, bevaring og formidling av Urtearven. Arrangementet er også støttet av Bymiljøeteten: Urbant landbruk. \nDe som ønsker å delta som frivillig og bidra blant annet med matlaging og lignende kan kontakte Mari Jerstad på urtearv@kvann.no
URL:https://kvann.no/arrangement/urtearv-seminar/
LOCATION:LINDERUD GÅRD\, Trondheimsveien 319\, Oslo\, 0593
CATEGORIES:Debatt,Fagtreff,Foredrag,Kurs
ATTACH;FMTTYPE=image/jpeg:https://kvann.no/wp-content/uploads/2024/12/timian.jpg
ORGANIZER;CN="KVANN":MAILTO:medlem@kvann.no
END:VEVENT
BEGIN:VEVENT
DTSTART;TZID=Europe/Oslo:20250823T140000
DTEND;TZID=Europe/Oslo:20250823T160000
DTSTAMP:20260424T053601
CREATED:20250313T194325Z
LAST-MODIFIED:20250313T194325Z
UID:31232-1755957600-1755964800@kvann.no
SUMMARY:Krydder i Norge
DESCRIPTION:Vi kjøper krydder som kommer fra verden rundt\, men vet vi at vi kan erstatte den med plantene som vokser i vårt eget miljø?\nUrtehagen på Losæter med Francesca og Andrew skal vise hvilke planter vi kan bruke til å gi mer smak til mat\, hvilke planter kan erstatte krydder vi kjøper i butikken og hvorfor vi bruker disse smakene i vårt kjøkken.\nVi skal ha noe å smake og gi oppskrifter til deltakere.\n\nHvor: Losæter i OsloKursleder: Francesca Tullio og Andrew NidayPris: gratis\n\nUrtealliansen er et team urteglade folk som møttes i urtehagen på Losæter. Vi holder kurs og foredrag med tema dyrking\, foredling og bruk av urter samt kunst med urter. Dette kurset er også en del av prosjektet Urtearven ledet av KVANN (Kunnskap og Vern av Nytteplanter i Norge). Kurset er støttet av SparebankstiftelsenDNB gjennom foreningen Losæter.
URL:https://kvann.no/arrangement/krydder-i-norge/
LOCATION:Losæter\, Kongshavnveien\, Bjørvika\, Oslo\, Norge
CATEGORIES:Foredrag,Kurs
ATTACH;FMTTYPE=image/jpeg:https://kvann.no/wp-content/uploads/2025/03/rtJQZ-ni6dRPFht_fXUb41bGmO-RJSr_ZFHdJkw0RelelZuMI_JPxuQSpiM_.jpg
END:VEVENT
BEGIN:VEVENT
DTSTART;TZID=Europe/Oslo:20250829T183000
DTEND;TZID=Europe/Oslo:20250829T200000
DTSTAMP:20260424T053601
CREATED:20250815T171338Z
LAST-MODIFIED:20250815T171435Z
UID:33187-1756492200-1756497600@kvann.no
SUMMARY:Økologisk hagebruk i et nøtteskall med Nat Mead
DESCRIPTION:(Påmeldinger til Stephen Barstow – sbarstow2@gmail.com; gratis for medlemmer av KVANN og Væres Venners Felleshagen\, kr 100 ellers som vipses til 91529516) \nKVANN Trøndelag og Væres Venners Felleshagen inviterer til et foredrag med Nat Mead “Økologisk hagebruk i et nøtteskall” i Administrasjons-bygget i den sørøstlige delen av hagen: \nDet blir gitt en oversikt over vesentlige forhold som ligger bak en vellykket øko-hage og vi skal inn påJordfruktbarhetVekstskifte og plantevalgSkadedyr\, sjukdom og ugrasMekanisering: verktøy og utstyrDet blir tid også til en samtale og diskusjon. \nOm Nathaniel (Nat) Mead – Pensjonert lektor i jord- og plantekultur ved Sogn Jord- og Hagebruksskule (SJH); rådgiver innen gårdsskala-kompostering og økologisk grønnsaksproduksjon; lærer i BINGN (Biodynamisk Initiativ for Neste Generasjon i Norden). Nat har jobbet aktivt med økologisk og biodynamisk landbruk siden 1982\, først i USA der han er født\, og fra 1986 i Norge. \nTakk til Sparebankstiftelsen og Schübelers hager for økonomisk støtte.
URL:https://kvann.no/arrangement/okologisk-hagebruk-i-et-notteskall-med-nat-mead/
LOCATION:Ringve Botaniske Hage\, Lade alle 58\, 7041 Trondheim\, Trondheim
CATEGORIES:Dyrkingsmetoder,Foredrag
ATTACH;FMTTYPE=image/jpeg:https://kvann.no/wp-content/uploads/2025/08/IMG_9184.jpg
ORGANIZER;CN="V%C3%A6rnes venner felleshage":MAILTO:sbarstow2@gmail.com
END:VEVENT
BEGIN:VEVENT
DTSTART;TZID=Europe/Oslo:20250830T130000
DTEND;TZID=Europe/Oslo:20250830T170000
DTSTAMP:20260424T053601
CREATED:20250710T112740Z
LAST-MODIFIED:20250710T113115Z
UID:32919-1756558800-1756573200@kvann.no
SUMMARY:Urtehagen på Domkirkeodden fyller 50 år!
DESCRIPTION:Den 30. august 2025 markerer Domkirkeodden Urtehagens 50-årsjubileum! I den anledning vender hagens grunnlegger\, Cecilie Jensen\, tilbake for å dele minner og erfaringer. \n\nProgram for dagen:\n\n\n\n\nJubileumstale av Cecilie Jensen\nMusikalsk program ved Asta Christin Holen\nMuligheter for å kjøpe mat med ingredienser fra Urtehagen\nOmvisning i Urtehagen\nAktiviteter for barn og unge\n\n\n\nArrangementet koster ikke mer enn en vanlig museumsbillett.\nDet startet med at Cecilie Jensen fikk en idé\, og nå har Urtehagen inspirert generasjoner! \nDen 30. august 2025 markerer Domkirkeodden Urtehagens 50-årsjubileum! I den anledning vender hagens grunnlegger\, Cecilie Jensen\, tilbake for å dele minner og erfaringer. \nSiden etableringen i 1975 har Urtehagen på Domkirkeodden vært en viktig formidler av kunnskap om historisk urtebruk\, helse og bærekraft. Gjennom fem tiår har hagen inspirert besøkende med sin unike samling av urter brukt i medisin\, matlaging og tradisjonell norsk kultur. \nCecilie Jensen\, som startet og drev Urtehagen i 30 år\, vil holde en jubileumstale og dele historier om hvordan hagen ble til\, dens betydning gjennom årene\, og hvordan vi kan ta vare på denne kulturarven for fremtiden. \nFor praktisk informasjon\, se nettsiden til Anno museum: \nhttps://domkirkeodden.no/urtehagen-fyller-50-ar \nArrangementet er en del av prosjektet Urtearv : planter i levende minne. KVANN (kunnskap om og vern av nytteplanter i Norge) samarbeider med Urtehagen på Domkirkeodden i et treårig prosjekt som kartlegger\, formidler og bevarer urtearven. Prosjektet er støttet av Sparebankstiftelsen DNB.
URL:https://kvann.no/arrangement/urtehagen-pa-domkirkeodden-fyller-50-ar/
LOCATION:Urtehagen på Domkirkeodden\, Strandvegen 100\, Hamar\, Innlandet\, 2315\, Norway
CATEGORIES:Åpne hager,Foredrag,Vandring
ORGANIZER;CN="Urtehagen p%C3%A5 Domkirkeodden":MAILTO:domkirkeodden@annomuseum.no
END:VEVENT
BEGIN:VEVENT
DTSTART;TZID=Europe/Oslo:20250831T180000
DTEND;TZID=Europe/Oslo:20250831T200000
DTSTAMP:20260424T053601
CREATED:20250711T113320Z
LAST-MODIFIED:20250711T113320Z
UID:32928-1756663200-1756670400@kvann.no
SUMMARY:Urtearv og kjærlighet
DESCRIPTION:I dette foredraget vil vi snakke om Urtearven i Norge. Vi vil invitere til refleksjon omkring egne tradisjoner\, og vise til kartlegging og funn så langt. Det vil særlig bli lagt vekt på kjærlighet i dette foredraget. Både kjærlighet til sted i forbindelse med sanking og dyrking\, og kjærlighet til seg selv og sine medmennesker i anvendelse og tradisjon med urter. Dyrking og sanking kan bringe oss nærmere stedet vi er\, både om vi er vokst opp lokalt eller om vi er tilreisende. Det blir også snakk om noen spesifikke planter og tradisjoner. \nMari Jerstad og Mari Marstein vil holde dette foredraget. \nMari Jerstad er prosjektleder for KVANNs prosjekt “Urtearv : Planter i levende minne” der kartlegging\, bevaring og formidling av urter og tradisjoner står sentralt. Hun har en bakgrunn innen medisinske planter i Europa og etnobotanikk i Norge med en master fra UiO.  \nMari Marstein er pensjonert konservator fra Museene i Akershus. Hun har samlet inn og arbeidet med bevaring og formidling av tradisjonsplanter i over 40 år. Hun har skrevet over 60 artikler om emnet\, både vitenskapelige og populære. I dag er hun med i styret i KVANN og i lagsledelsen i Schübelers hager\, et nettverk av historiske hager\, organisert som et laug under KVANN.
URL:https://kvann.no/arrangement/urtearv-og-kjaerlighet/
LOCATION:Melbo Hovedgård\, Maren Frederiksens allé 1\, 8445 Melbu\, Melbu\, 8445\, Norway
CATEGORIES:Foredrag
ATTACH;FMTTYPE=image/jpeg:https://kvann.no/wp-content/uploads/2025/07/Rodklover.jpg
ORGANIZER;CN="Melbo Hovedg%C3%A5rd":MAILTO:melbohovedgaard@museumnord.no
END:VEVENT
BEGIN:VEVENT
DTSTART;TZID=Europe/Oslo:20250831T190000
DTEND;TZID=Europe/Oslo:20250907T170000
DTSTAMP:20260424T053601
CREATED:20250704T105749Z
LAST-MODIFIED:20250704T111235Z
UID:32904-1756666800-1757264400@kvann.no
SUMMARY:Urtearv i nord : Kulturverndagene
DESCRIPTION:I forbindelse med Kulturverndagene skal KVANN i samarbeid med blant annet Museum Nord arrangere en rekke arrangement på Kulturverndagene i 2025. I løpet av denne turneen skal Mari Marstein fra Schubelers hager i KVANN og Mari Jerstad fra urtelauget i KVANN holde foredrag\, verksted\, eventyrstund og hagevandring. \nMer om hvert arrangement: \n\nForedrag på Melbu Hovedgård “Urtearv og kjærlighet” 31. august kl. 18:00 – 20:00\n\nI dette foredraget vil vi snakke om Urtearven i Norge. Vi vil invitere til refleksjon omkring egne tradisjoner\, og vise til kartlegging og funn så langt. Det vil særlig bli lagt vekt på kjærlighet i dette foredraget. Både kjærlighet til sted i forbindelse med sanking og dyrking\, og kjærlighet til seg selv og sine medmennesker i anvendelse og tradisjon med urter. Dyrking og sanking kan bringe oss nærmere stedet vi er\, både om vi er vokst opp lokalt eller om vi er tilreisende. Det blir også snakk om noen spesifikke planter og tradisjoner. \n\nMelbu Hovedgård “en tur i lokale smaker” 1. september kl. 9 – 12\n\nVi starter med en skapelsesmyte\, og har en dialog omkring ulike forståelser vi har i samfunnet om hvordan alt ble til. Så snakker vi om noen trær som ble fortalt om i skapelsesmyten. Vi har en dialog og tegnestund der vi reflekterer over hvilke historier som former hvordan vi selv ser på lokal natur. Etter en pause der barna får smake saft laget av lokale vekster går vi ut. Vi identifiserer trær i nærmiljøet. Etter turen oppsummerer barna selv det de har lært. \nLokalt samarbeid: Museum nord (Melbu Hovedgård)\, lokal skole og sanitetsforening \nDette arrangementet er åpent for alle. Det passer for både barn og voksne. \n\nFlerkulturell urteverksted på Melbu Hovedgård “utveksling og urteeddikk” 1. september kl. 17 – 19\n\nVi inviterer elever på voksenopplæringssenteret og lokale folk til å komme til et verksted der vi lager uttrekk av lokale urter i eddikk. Her lærer vi helt praktisk hvordan lage eddikkuttrekk\, hvorfor lage eddikkuttrekk\, og noen av de lokale hageplantene og ville vekstene som kan være aktuelle for eddikkuttrekk. \nEtter vi er ferdige med å lage uttrekk inviterer vi folk fra voksenopplæringssenteret til å dele tradisjoner fra sine land omkring bruk av lokale urter. Dette er noe voksenopplæringen har forberedt dem på i en oppgave på forhånd. Tre grupper presenterer en plante hver fra sitt hjemland. Til slutt blir det en diskusjon mellom lokale folk\, kursledere og personer på voksenopplæringen omkring urter og tradisjoner. \nLokalt samarbeid er Museum nord (Melbu Hovedgård)\, Voksenopplæringen i Hadsel og Flyktningetjeneste i Hadsel. \n  \n\nHagelagssamling i Balsfjord “Urtearv og historiske vekster” 3. september\n\nVelkommen til foredrag om prosjektet urtearv og også om historiske vekster. Mari Marstein og Mari Jerstad skal begge snakke om tematikken og tar i mot spørsmål fra salen. Velkommen med! \nLokalt samarbeid er Balsfjord prestegård\, Balsfjord hagelag
URL:https://kvann.no/arrangement/urtearv-i-nord-kulturverndagene/
LOCATION:Flere steder
CATEGORIES:Foredrag,Kurs
ATTACH;FMTTYPE=image/jpeg:https://kvann.no/wp-content/uploads/2025/07/timian.jpg
ORGANIZER;CN="KVANN":MAILTO:medlem@kvann.no
END:VEVENT
END:VCALENDAR