﻿BEGIN:VCALENDAR
VERSION:2.0
PRODID:-//K V A N N - ECPv6.15.20//NONSGML v1.0//EN
CALSCALE:GREGORIAN
METHOD:PUBLISH
X-WR-CALNAME:K V A N N
X-ORIGINAL-URL:https://kvann.no
X-WR-CALDESC:Arrangement for K V A N N
REFRESH-INTERVAL;VALUE=DURATION:PT1H
X-Robots-Tag:noindex
X-PUBLISHED-TTL:PT1H
BEGIN:VTIMEZONE
TZID:Europe/Oslo
BEGIN:DAYLIGHT
TZOFFSETFROM:+0100
TZOFFSETTO:+0200
TZNAME:CEST
DTSTART:20250330T010000
END:DAYLIGHT
BEGIN:STANDARD
TZOFFSETFROM:+0200
TZOFFSETTO:+0100
TZNAME:CET
DTSTART:20251026T010000
END:STANDARD
BEGIN:DAYLIGHT
TZOFFSETFROM:+0100
TZOFFSETTO:+0200
TZNAME:CEST
DTSTART:20260329T010000
END:DAYLIGHT
BEGIN:STANDARD
TZOFFSETFROM:+0200
TZOFFSETTO:+0100
TZNAME:CET
DTSTART:20261025T010000
END:STANDARD
BEGIN:DAYLIGHT
TZOFFSETFROM:+0100
TZOFFSETTO:+0200
TZNAME:CEST
DTSTART:20270328T010000
END:DAYLIGHT
BEGIN:STANDARD
TZOFFSETFROM:+0200
TZOFFSETTO:+0100
TZNAME:CET
DTSTART:20271031T010000
END:STANDARD
END:VTIMEZONE
BEGIN:VEVENT
DTSTART;TZID=Europe/Oslo:20260302T150000
DTEND;TZID=Europe/Oslo:20260302T200000
DTSTAMP:20260424T225511
CREATED:20251028T090259Z
LAST-MODIFIED:20260128T134732Z
UID:33975-1772463600-1772481600@kvann.no
SUMMARY:Podekurs for pære på Baroniet i Rosendal (fullt)
DESCRIPTION:Pærehagen på Baroniet i Rosendal var ein gong innhaldsrik og omfattande. No er det diverre ikkje like mange frukttre att. KVANN og Baroniet skal difor samarbeide om podekurs 2. mars kl 15-20. Der får du høve til å lære å pode gamle pæresortar\, og du får med deg tre tre heim att. Dei overskytande trea blir donerte til Baroniet\, slik at dei kan starte arbeidet med å re-etablere pærehagen. \nKurset gir grunnleggande informasjon om kva poding er\, ulike teknikkar\, om naudsynt utstyr\, metodikk\, teoretisk kunnskap og praktisk trening. I tillegg til at du får med deg tre av trea du lagar\,  får du og med deg eit grundig kompendium om poding og høve til å kjøpe podekniv og anna utstyr. På dette kurset vil vi nytte sortar som keiserinne\, raud haustbergamott og skånsk sukkerpære\, med frøstammar som grunnstamme. Om du ønsker litt meir moderne sortar på små stammar (kvede) så kan du tinge det i nettbutikken og halde fram med podinga litt seinare på våren. Eple blir poda med same teknikk\, så ikkje ver redd for å prøve det og! \nKurshaldar er Eirik Lillebøe Wiken. Alle påmeldte får ein mail med praktisk informasjon om kurset. I etterkant får du tilsendt eit kursbevis frå Studieforbundet Natur og Miljø. \nPåmelding gjer du her: https://event.checkin.no/195597/podekurs-paere-i-rosendal \nKurset blir i maskinhallen og velferden\, Baronivegen 52-54. Parker på parkeringsplassen\, gå i retning hovudinngangen\, men ta så første til venstre slik at du kjem opp mot arbeidshusa. \n 
URL:https://kvann.no/arrangement/podekurs-for-paere-pa-baroniet-i-rosendal/
LOCATION:Baroniet i Rosendal\, Baronivegen 60\, Rosendal\, 5470
CATEGORIES:Kurs,Poding
END:VEVENT
BEGIN:VEVENT
DTSTART;TZID=Europe/Oslo:20260303T150000
DTEND;TZID=Europe/Oslo:20260303T200000
DTSTAMP:20260424T225511
CREATED:20251104T090650Z
LAST-MODIFIED:20251104T090650Z
UID:34104-1772550000-1772568000@kvann.no
SUMMARY:Podekurs eple Karmøy
DESCRIPTION:Dato/tidspunkt: 3. mars 2026 fra kl. 15 til ca. kl. 20\nSted: Solberget gård\, Sundvegen 530\, Kopervik\nHvem kan delta: Alle\nAntall plasser: 12\nPris: NOK 700 for medlemmer av KVANN og 950 for ikke-medlemmer (medlemskapet koster 350)\nPåmeldingsfrist: 1. mars 2026 (men kursene blir ofte raskt utsolgt\, så ikke vent med å bestille plass hvis du vil være med!) \nBeskrivelse: Kurset gir grunnleggende informasjon om hva poding er\, ulike teknikker\, om nødvendig utstyr\, metodikk\, teoretisk kunnskap og praktisk trening. Du får grunnstammer og podekvist til å lage tre epletrær som du får med deg hjem. Du får også med deg et grundig kompendium om poding og mulighet til å kjøpe podekniv. \nKursholder er Eirik Lillebøe Wiken. Alle påmeldte får en mail med praktisk informasjon om kurset. I etterkant får du tilsendt et kursbevis fra Studieforbundet Natur og Miljø. \n(Hvis billettbestillingen under ikke virker\, så kan du bruke denne: https://event.checkin.no/196540/podekurs-eple-paa-karmoey) \n<div id=”checkin_registration”></div>\n<script src=”https://registration.checkin.no/registration.loader.js” data-event-id=”196540″ async></script>
URL:https://kvann.no/arrangement/podekurs-eple-karmoy/
LOCATION:Solberget gård\, Sundvegen 530\, Kopervik\, 4250\, Norway
CATEGORIES:Kurs,Poding
ATTACH;FMTTYPE=image/png:https://kvann.no/wp-content/uploads/2025/10/Sitroneple.png
END:VEVENT
BEGIN:VEVENT
DTSTART;TZID=Europe/Oslo:20260304T150000
DTEND;TZID=Europe/Oslo:20260304T200000
DTSTAMP:20260424T225511
CREATED:20260106T130643Z
LAST-MODIFIED:20260106T131723Z
UID:34712-1772636400-1772654400@kvann.no
SUMMARY:Podekurs på Ullandhaug Økologiske gård
DESCRIPTION:Podekurs om poding av eple. \nKurset gir grunnleggende informasjon om hva poding er\, ulike teknikker\, om nødvendig utstyr\, metodikk\, teoretisk kunnskap og praktisk trening. Du får grunnstammer og podekvist til å lage tre epletrær som du får med deg hjem. Du får også med deg et grundig kompendium om poding og mulighet til å kjøpe podekniv. \nBegrenset antall plasser. Bestill her.\nPris: NOK 700 for medlemmer av KVANN og 950 for ikke-medlemmer (medlemskapet koster 350)\nKursene blir ofte raskt utsolgt\, så ikke vent med å bestille plass hvis du vil være med! \nKursholder er Eirik Lillebøe Wiken. Alle påmeldte får en mail med praktisk informasjon om kurset. I etterkant får du tilsendt et kursbevis fra Studieforbundet Natur og Miljø.
URL:https://kvann.no/arrangement/podekurs-pa-ullandhaug-okologiske-gard/
LOCATION:Ullandhaug Økologsike gård\, Ullandhaugveien 150\, Stavanger\, 4021
CATEGORIES:Kurs,Poding
ATTACH;FMTTYPE=image/jpeg:https://kvann.no/wp-content/uploads/2025/11/489806784_18064120916059416_277959642401482790_n-e1763642144864.jpg
ORGANIZER;CN="KVANN":MAILTO:medlem@kvann.no
END:VEVENT
BEGIN:VEVENT
DTSTART;TZID=Europe/Oslo:20260306T150000
DTEND;TZID=Europe/Oslo:20260306T200000
DTSTAMP:20260424T225511
CREATED:20251120T122917Z
LAST-MODIFIED:20251120T123558Z
UID:34264-1772809200-1772827200@kvann.no
SUMMARY:Podekurs i Bø
DESCRIPTION:Podekurs om poding av eple. \nKurset gir grunnleggende informasjon om hva poding er\, ulike teknikker\, om nødvendig utstyr\, metodikk\, teoretisk kunnskap og praktisk trening. Du får grunnstammer og podekvist til å lage tre epletrær som du får med deg hjem. Du får også med deg et grundig kompendium om poding og mulighet til å kjøpe podekniv. \nDato/tidspunkt: 6. mars 2026 fra kl. 15 til ca. kl. 20\nSted: Bø prestegård\nHvem kan delta: Alle\nBegrenset antall plasser trykk her for billetter.\nPris: NOK 700 for medlemmer av KVANN og 950 for ikke-medlemmer (medlemskapet koster 350)\nPåmeldingsfrist: 1. mars 2026 (men kursene blir ofte raskt utsolgt\, så ikke vent med å bestille plass hvis du vil være med!) \nKursholder er Eirik Lillebøe Wiken. Alle påmeldte får en mail med praktisk informasjon om kurset. I etterkant får du tilsendt et kursbevis fra Studieforbundet Natur og Miljø. Mer informasjon om Bø Prestegård finner du her.
URL:https://kvann.no/arrangement/podekurs-i-bo/
LOCATION:Bø Prestegård\, Prestevegen 4\, 3802 Bø i Telemark
CATEGORIES:Kurs,Poding
ATTACH;FMTTYPE=image/jpeg:https://kvann.no/wp-content/uploads/2025/11/489806784_18064120916059416_277959642401482790_n-e1763642144864.jpg
ORGANIZER;CN="KVANN":MAILTO:medlem@kvann.no
END:VEVENT
BEGIN:VEVENT
DTSTART;TZID=Europe/Oslo:20260307T110000
DTEND;TZID=Europe/Oslo:20260307T160000
DTSTAMP:20260424T225511
CREATED:20260129T151835Z
LAST-MODIFIED:20260130T082235Z
UID:34866-1772881200-1772899200@kvann.no
SUMMARY:Podekurs i Skien
DESCRIPTION:Kurset gir grunnleggende informasjon om hva poding er\, ulike teknikker\, om nødvendig utstyr\, metodikk\, teoretisk kunnskap og praktisk trening. Du får grunnstammer og podekvist til å lage tre epletrær som du får med deg hjem. Du får også med deg et grundig kompendium om poding og mulighet til å kjøpe podekniv. \nPris: NOK 700 for medlemmer av KVANN og 950 for ikke-medlemmer (medlemskapet koster 350)\nDet er begrenset antall plasser\, så det er lurt å sikre seg plass om du vil komme! \nKursholder er Eirik Lillebøe Wiken. Alle påmeldte får en mail med praktisk informasjon om kurset. I etterkant får du tilsendt et kursbevis fra Studieforbundet Natur og Miljø. \nKurset blir på Skien Prestegård i samarbeid med bybonden i Skien\, Hilde Amy Teie. \nTrykk her for å bestille biletter!
URL:https://kvann.no/arrangement/podekurs-i-skien/
LOCATION:Skien prestegård\, Lundegata 13\, Skien\, 3724
CATEGORIES:Kurs,Poding
ATTACH;FMTTYPE=image/jpeg:https://kvann.no/wp-content/uploads/2026/01/489806784_18064120916059416_277959642401482790_n.jpg
ORGANIZER;CN="KVANN":MAILTO:medlem@kvann.no
END:VEVENT
BEGIN:VEVENT
DTSTART;TZID=Europe/Oslo:20260309T150000
DTEND;TZID=Europe/Oslo:20260309T200000
DTSTAMP:20260424T225511
CREATED:20251205T112957Z
LAST-MODIFIED:20251205T112957Z
UID:34519-1773068400-1773086400@kvann.no
SUMMARY:Podekurs på Fossesholm Herregård
DESCRIPTION:Podekurs! \nKurset gir grunnleggende informasjon om hva poding er\, ulike teknikker\, om nødvendig utstyr\, metodikk\, teoretisk kunnskap og praktisk trening. Det gjelder poding av eple. Du får grunnstammer og podekvist til å lage tre epletrær som du får med deg hjem. Du får også med deg et grundig kompendium om poding og mulighet til å kjøpe podekniv. \nDato/tidspunkt: 9. mars 2026 fra kl. 15 til ca. kl. 20\nSted: Fossesholm Herregård\nBegrenset antall plasser trykk her for billetter.\nPris: NOK 700 for medlemmer av KVANN og 950 for ikke-medlemmer (medlemskapet koster 350)\nPåmeldingsfrist: 1. mars 2026 (men kursene blir ofte raskt utsolgt\, så ikke vent med å bestille plass hvis du vil være med!) \nKursholder er Eirik Lillebøe Wiken. Alle påmeldte får en mail med praktisk informasjon om kurset. I etterkant får du tilsendt et kursbevis fra Studieforbundet Natur og Miljø. \n\n\n\n\n Legg til i kalender
URL:https://kvann.no/arrangement/podekurs-pa-fossesholm-herregard/
LOCATION:Fossesholm Herregård\, Fossgata 49\, Vestfossen\, 3320\, Norway
CATEGORIES:Kurs,Poding
ATTACH;FMTTYPE=image/jpeg:https://kvann.no/wp-content/uploads/2025/11/489806784_18064120916059416_277959642401482790_n-e1763642144864.jpg
ORGANIZER;CN="KVANN":MAILTO:medlem@kvann.no
END:VEVENT
BEGIN:VEVENT
DTSTART;TZID=Europe/Oslo:20260310T150000
DTEND;TZID=Europe/Oslo:20260310T200000
DTSTAMP:20260424T225511
CREATED:20260204T134558Z
LAST-MODIFIED:20260204T134558Z
UID:34910-1773154800-1773172800@kvann.no
SUMMARY:Podekurs på Lier bydgetun
DESCRIPTION:Podekurs om poding av eple. \nKurset gir grunnleggende informasjon om hva poding er\, ulike teknikker\, om nødvendig utstyr\, metodikk\, teoretisk kunnskap og praktisk trening. Du får grunnstammer og podekvist til å lage tre epletrær som du får med deg hjem. Du får også med deg et grundig kompendium om poding og mulighet til å kjøpe podekniv. \nBegrenset antall plasser trykk her for billetter.\nPris: NOK 700 for medlemmer av KVANN og 950 for ikke-medlemmer (medlemskapet koster 350)\nKursene blir ofte raskt utsolgt\, så ikke vent med å bestille plass hvis du vil være med! \nKursholder er Eirik Lillebøe Wiken. Alle påmeldte får en mail med praktisk informasjon om kurset. I etterkant får du tilsendt et kursbevis fra Studieforbundet Natur og Miljø.
URL:https://kvann.no/arrangement/podekurs-pa-lier-bydgetun/
LOCATION:Lier Bygdetun\, Paradisbakkene 29\, 3403 Lier\, Lier
CATEGORIES:Kurs,Poding
ATTACH;FMTTYPE=image/jpeg:https://kvann.no/wp-content/uploads/2026/01/489806784_18064120916059416_277959642401482790_n.jpg
ORGANIZER;CN="KVANN":MAILTO:medlem@kvann.no
END:VEVENT
BEGIN:VEVENT
DTSTART;TZID=Europe/Oslo:20260311T150000
DTEND;TZID=Europe/Oslo:20260311T200000
DTSTAMP:20260424T225511
CREATED:20260113T113221Z
LAST-MODIFIED:20260113T125150Z
UID:34743-1773241200-1773259200@kvann.no
SUMMARY:Podekurs på Grålum
DESCRIPTION:Podekurs om poding av eple på Kalnes VGS\, \nKurset gir grunnleggende informasjon om hva poding er\, ulike teknikker\, om nødvendig utstyr\, metodikk\, teoretisk kunnskap og praktisk trening. Du får grunnstammer og podekvist til å lage tre epletrær som du får med deg hjem. Du får også med deg et grundig kompendium om poding og mulighet til å kjøpe podekniv. \nDato/tidspunkt: 11. mars 2026 fra kl. 15 til ca. kl. 20\nBegrenset antall plasser trykk her for billetter.\nPris: NOK 700 for medlemmer av KVANN og 950 for ikke-medlemmer (medlemskapet koster 350)\nPåmeldingsfrist: 1. mars 2026 (men kursene blir ofte raskt utsolgt\, så ikke vent med å bestille plass hvis du vil være med!) \nKursholder er Eirik Lillebøe Wiken. Alle påmeldte får en mail med praktisk informasjon om kurset. I etterkant får du tilsendt et kursbevis fra Studieforbundet Natur og Miljø.
URL:https://kvann.no/arrangement/podekurs-pa-gralum/
LOCATION:Kalnes VGS\, Sandtangen 85\, Grålum\, 1712
CATEGORIES:Kurs,Poding
ATTACH;FMTTYPE=image/jpeg:https://kvann.no/wp-content/uploads/2025/11/489806784_18064120916059416_277959642401482790_n-e1763642144864.jpg
ORGANIZER;CN="KVANN":MAILTO:medlem@kvann.no
END:VEVENT
BEGIN:VEVENT
DTSTART;TZID=Europe/Oslo:20260312T150000
DTEND;TZID=Europe/Oslo:20260312T200000
DTSTAMP:20260424T225511
CREATED:20260121T102554Z
LAST-MODIFIED:20260121T102554Z
UID:34802-1773327600-1773345600@kvann.no
SUMMARY:Podekurs på Lørenskog
DESCRIPTION:Kurset gir grunnleggende informasjon om hva poding er\, ulike teknikker\, om nødvendig utstyr\, metodikk\, teoretisk kunnskap og praktisk trening. Du får grunnstammer og podekvist til å lage tre epletrær som du får med deg hjem. Du får også med deg et grundig kompendium om poding og mulighet til å kjøpe podekniv. \nKursholder er Eirik Lillebøe Wiken. Alle påmeldte får en mail med praktisk informasjon om kurset. I etterkant får du tilsendt et kursbevis fra Studieforbundet Natur og Miljø. \nDato/tidspunkt: 12. mars 2026 fra kl. 15 til ca. kl. 20\nSted: Lørenskog bygdemuseum\nPris: NOK 700 for medlemmer av KVANN og 950 for ikke-medlemmer (medlemskapet koster 350)\nPåmeldingsfrist: 1. mars 2026 (men kursene blir ofte raskt utsolgt\, så ikke vent med å bestille plass hvis du vil være med!) \nBestill billetter her!
URL:https://kvann.no/arrangement/podekurs-pa-lorenskog/
LOCATION:Lørenskog bygdemuseum\, Løkenåsveien 29\, Lørenskog\, 1473\, Norge
CATEGORIES:Kurs,Poding
ATTACH;FMTTYPE=image/jpeg:https://kvann.no/wp-content/uploads/2025/11/489806784_18064120916059416_277959642401482790_n-e1763642144864.jpg
ORGANIZER;CN="KVANN":MAILTO:medlem@kvann.no
END:VEVENT
END:VCALENDAR