﻿BEGIN:VCALENDAR
VERSION:2.0
PRODID:-//K V A N N - ECPv6.15.20//NONSGML v1.0//EN
CALSCALE:GREGORIAN
METHOD:PUBLISH
X-WR-CALNAME:K V A N N
X-ORIGINAL-URL:https://kvann.no
X-WR-CALDESC:Arrangement for K V A N N
REFRESH-INTERVAL;VALUE=DURATION:PT1H
X-Robots-Tag:noindex
X-PUBLISHED-TTL:PT1H
BEGIN:VTIMEZONE
TZID:Europe/Oslo
BEGIN:DAYLIGHT
TZOFFSETFROM:+0100
TZOFFSETTO:+0200
TZNAME:CEST
DTSTART:20220327T010000
END:DAYLIGHT
BEGIN:STANDARD
TZOFFSETFROM:+0200
TZOFFSETTO:+0100
TZNAME:CET
DTSTART:20221030T010000
END:STANDARD
BEGIN:DAYLIGHT
TZOFFSETFROM:+0100
TZOFFSETTO:+0200
TZNAME:CEST
DTSTART:20230326T010000
END:DAYLIGHT
BEGIN:STANDARD
TZOFFSETFROM:+0200
TZOFFSETTO:+0100
TZNAME:CET
DTSTART:20231029T010000
END:STANDARD
BEGIN:DAYLIGHT
TZOFFSETFROM:+0100
TZOFFSETTO:+0200
TZNAME:CEST
DTSTART:20240331T010000
END:DAYLIGHT
BEGIN:STANDARD
TZOFFSETFROM:+0200
TZOFFSETTO:+0100
TZNAME:CET
DTSTART:20241027T010000
END:STANDARD
END:VTIMEZONE
BEGIN:VEVENT
DTSTART;TZID=Europe/Oslo:20230301T110000
DTEND;TZID=Europe/Oslo:20230301T160000
DTSTAMP:20260425T121742
CREATED:20230215T132646Z
LAST-MODIFIED:20230215T133151Z
UID:24041-1677668400-1677686400@kvann.no
SUMMARY:Podekurs i Stavanger
DESCRIPTION:Dato/tidspunkt: 1. mars 2023 fra kl. 11:00 til ca. kl. 16:00\nSted: Bergeland bydelssenter\, ved Hetland kirke.\nHvem kan delta: Alle\nAntall plasser: 15\nPris: NOK 500 for medlemmer av KVANN og 700 for ikke-medlemmer av KVANN \nPåmeldingsfrist: 25. februar 2023 \n  \nKurset gir grunnleggende informasjon om hva poding er\, ulike teknikker\, om\nnødvendig utstyr\, metodikk\, teoretisk kunnskap og praktisk trening. Du får grunnstammer\nog podekvist til å lage fire epletrær som du får med seg hjem. Du får også med deg et\ngrundig kompendium om poding og mulighet til å kjøpe podekniv. \nKursholder er gartner Eirik Lillebøe Wiken. \nAlle påmeldte får en mail med praktisk informasjon om kurset.
URL:https://kvann.no/arrangement/podekurs-i-stavanger/
LOCATION:Bergeland bydelssenter\, Jelsagata 2\, Stavanger\, 4012\, Norge
CATEGORIES:Kurs
ATTACH;FMTTYPE=image/jpeg:https://kvann.no/wp-content/uploads/2020/01/podekvister.jpg
ORGANIZER;CN="KVANN":MAILTO:medlem@kvann.no
END:VEVENT
BEGIN:VEVENT
DTSTART;TZID=Europe/Oslo:20230311T100000
DTEND;TZID=Europe/Oslo:20230311T150000
DTSTAMP:20260425T121742
CREATED:20230216T084102Z
LAST-MODIFIED:20230216T084102Z
UID:24068-1678528800-1678546800@kvann.no
SUMMARY:Podekurs Agatunet\, Hardanger
DESCRIPTION:Dato/tidspunkt: 11. mars 2023 fra kl 10:00 til ca. kl 15:00\nSted: Agatunet i Hardanger\nHvem kan delta: Alle\nAntall plasser: 15 \nPris: NOK 500 for medlemmer av KVANN og NOK 700 for ikke-medlemmer av KVANN \nPåmeldingsfrist: 7. mars 2023 \nKurset gir grunnleggende informasjon om hva poding er\, ulike teknikker\, om\nnødvendig utstyr\, metodikk\, teoretisk kunnskap og praktisk trening. Du får grunnstammer\nog podekvist til å lage fire epletrær som du får med seg hjem. Du får også med deg et\ngrundig kompendium om poding og mulighet til å kjøpe podekniv. \nKursholder er gartner Eirik Lillebøe Wiken. Alle påmeldte får en mail med praktisk\ninformasjon om kurset.
URL:https://kvann.no/arrangement/podekurs-agatunet-hardanger/
CATEGORIES:Kurs
ATTACH;FMTTYPE=image/jpeg:https://kvann.no/wp-content/uploads/2020/01/podekvister.jpg
ORGANIZER;CN="KVANN":MAILTO:medlem@kvann.no
END:VEVENT
BEGIN:VEVENT
DTSTART;TZID=Europe/Oslo:20230318T130000
DTEND;TZID=Europe/Oslo:20230318T170000
DTSTAMP:20260425T121742
CREATED:20230216T084707Z
LAST-MODIFIED:20230216T084707Z
UID:24072-1679144400-1679158800@kvann.no
SUMMARY:Podekurs på Lier bygdetun
DESCRIPTION:Dato/tidspunkt: 18. mars 2023 fra kl. 13:00 til ca. kl. 17:00\nSted: Lier bygdetun\, øst for Drammen.\nHvem kan delta: Alle \nAntall plasser: 15\nPris: NOK 500 for medlemmer av KVANN og 700 for ikke-medlemmer av KVANN\nPåmeldingsfrist: 14. mars 2023 \nKurset gir grunnleggende informasjon om hva poding er\, ulike teknikker\, om\nnødvendig utstyr\, metodikk\, teoretisk kunnskap og praktisk trening. Du får grunnstammer\nog podekvist til å lage fire epletrær som du får med seg hjem. Du får også med deg et\ngrundig kompendium om poding. \nKursholder er Ole-Alexander Martinsen\, instruktør er Heidi Nilsen fra Sagaplant. Alle\npåmeldte får en mail med praktisk informasjon om kurset.
URL:https://kvann.no/arrangement/podekurs-pa-lier-bygdetun/
CATEGORIES:Kurs
ATTACH;FMTTYPE=image/jpeg:https://kvann.no/wp-content/uploads/2020/01/podekvister.jpg
ORGANIZER;CN="KVANN":MAILTO:medlem@kvann.no
END:VEVENT
BEGIN:VEVENT
DTSTART;TZID=Europe/Oslo:20230325T110000
DTEND;TZID=Europe/Oslo:20230325T160000
DTSTAMP:20260425T121742
CREATED:20230216T085216Z
LAST-MODIFIED:20230216T085216Z
UID:24076-1679742000-1679760000@kvann.no
SUMMARY:Podekurs i Trondheim
DESCRIPTION:Podekurs i Trondheim\nDato/tidspunkt: 25. mars 2023 fra kl 11:00 til ca kl 16:00\nSted: Ringve botaniske hage \nHvem kan delta: Alle\nAntall plasser: 15\nPris: NOK 500 for medlemmer av KVANN og 700 for ikke-medlemmer\nPåmeldingsfrist: 21. mars 2023 \nKurset gir grunnleggende informasjon om hva poding er\, ulike teknikker\, om\nnødvendig utstyr\, metodikk\, teoretisk kunnskap og praktisk trening. Du får grunnstammer\nog podekvist til å lage fire epletrær som du får med seg hjem. Du får også med deg et\ngrundig kompendium om poding. \nKursholder er Eirik Lillebøe Wiken. Alle påmeldte får en mail med praktisk informasjon om\nkurset.
URL:https://kvann.no/arrangement/podekurs-i-trondheim/
CATEGORIES:Kurs
ATTACH;FMTTYPE=image/jpeg:https://kvann.no/wp-content/uploads/2020/01/podekvister.jpg
ORGANIZER;CN="KVANN":MAILTO:medlem@kvann.no
END:VEVENT
END:VCALENDAR