﻿BEGIN:VCALENDAR
VERSION:2.0
PRODID:-//K V A N N - ECPv6.15.20//NONSGML v1.0//EN
CALSCALE:GREGORIAN
METHOD:PUBLISH
X-WR-CALNAME:K V A N N
X-ORIGINAL-URL:https://kvann.no
X-WR-CALDESC:Arrangement for K V A N N
REFRESH-INTERVAL;VALUE=DURATION:PT1H
X-Robots-Tag:noindex
X-PUBLISHED-TTL:PT1H
BEGIN:VTIMEZONE
TZID:Europe/Oslo
BEGIN:DAYLIGHT
TZOFFSETFROM:+0100
TZOFFSETTO:+0200
TZNAME:CEST
DTSTART:20220327T010000
END:DAYLIGHT
BEGIN:STANDARD
TZOFFSETFROM:+0200
TZOFFSETTO:+0100
TZNAME:CET
DTSTART:20221030T010000
END:STANDARD
BEGIN:DAYLIGHT
TZOFFSETFROM:+0100
TZOFFSETTO:+0200
TZNAME:CEST
DTSTART:20230326T010000
END:DAYLIGHT
BEGIN:STANDARD
TZOFFSETFROM:+0200
TZOFFSETTO:+0100
TZNAME:CET
DTSTART:20231029T010000
END:STANDARD
BEGIN:DAYLIGHT
TZOFFSETFROM:+0100
TZOFFSETTO:+0200
TZNAME:CEST
DTSTART:20240331T010000
END:DAYLIGHT
BEGIN:STANDARD
TZOFFSETFROM:+0200
TZOFFSETTO:+0100
TZNAME:CET
DTSTART:20241027T010000
END:STANDARD
END:VTIMEZONE
BEGIN:VEVENT
DTSTART;TZID=Europe/Oslo:20230429T110000
DTEND;TZID=Europe/Oslo:20230429T160000
DTSTAMP:20260425T122106
CREATED:20230216T085651Z
LAST-MODIFIED:20230216T085651Z
UID:24080-1682766000-1682784000@kvann.no
SUMMARY:Podekurs i Vågå\, Gudbrandsdalen
DESCRIPTION:Podekurs i Vågå\, Gudbrandsdalen.\nDato/tidspunkt: 29. april 2023 fra kl 11:00 til ca kl 16:00\nSted: Vågå prestegård\, Ullinsvin. \nHvem kan delta: Alle.\nAntall plasser: 15\nPris: NOK 500\nPåmeldingsfrist: 23. april 2023 \nKurset gir grunnleggende informasjon om hva poding er\, ulike teknikker\, om\nnødvendig utstyr\, metodikk\, teoretisk kunnskap og praktisk trening. Du får grunnstammer\nog podekvist til å lage fire epletrær som du får med seg hjem. Vi bruker herdige sorter som\nhar overlevd i generasjoner i Gudbrandsdalen. Du får også med deg et grundig kompendium\nom poding.\nKurset er et samarbeid mellom Norsk Kulturarv\, Ullinsvin prestegård\, Schübelers hager og\nKVANN. \nKursholder er Kjell Hødnebø. Alle påmeldte får en mail med praktisk informasjon\nom kurset.
URL:https://kvann.no/arrangement/podekurs-i-vaga-gudbrandsdalen/
CATEGORIES:Kurs
ATTACH;FMTTYPE=image/jpeg:https://kvann.no/wp-content/uploads/2020/01/podekvister.jpg
ORGANIZER;CN="KVANN":MAILTO:medlem@kvann.no
END:VEVENT
END:VCALENDAR