﻿BEGIN:VCALENDAR
VERSION:2.0
PRODID:-//K V A N N - ECPv6.15.20//NONSGML v1.0//EN
CALSCALE:GREGORIAN
METHOD:PUBLISH
X-WR-CALNAME:K V A N N
X-ORIGINAL-URL:https://kvann.no
X-WR-CALDESC:Arrangement for K V A N N
REFRESH-INTERVAL;VALUE=DURATION:PT1H
X-Robots-Tag:noindex
X-PUBLISHED-TTL:PT1H
BEGIN:VTIMEZONE
TZID:Europe/Oslo
BEGIN:DAYLIGHT
TZOFFSETFROM:+0100
TZOFFSETTO:+0200
TZNAME:CEST
DTSTART:20220327T010000
END:DAYLIGHT
BEGIN:STANDARD
TZOFFSETFROM:+0200
TZOFFSETTO:+0100
TZNAME:CET
DTSTART:20221030T010000
END:STANDARD
BEGIN:DAYLIGHT
TZOFFSETFROM:+0100
TZOFFSETTO:+0200
TZNAME:CEST
DTSTART:20230326T010000
END:DAYLIGHT
BEGIN:STANDARD
TZOFFSETFROM:+0200
TZOFFSETTO:+0100
TZNAME:CET
DTSTART:20231029T010000
END:STANDARD
BEGIN:DAYLIGHT
TZOFFSETFROM:+0100
TZOFFSETTO:+0200
TZNAME:CEST
DTSTART:20240331T010000
END:DAYLIGHT
BEGIN:STANDARD
TZOFFSETFROM:+0200
TZOFFSETTO:+0100
TZNAME:CET
DTSTART:20241027T010000
END:STANDARD
END:VTIMEZONE
BEGIN:VEVENT
DTSTART;TZID=Europe/Oslo:20230320T190000
DTEND;TZID=Europe/Oslo:20230320T203000
DTSTAMP:20260425T015933
CREATED:20230227T185258Z
LAST-MODIFIED:20230320T113521Z
UID:24524-1679338800-1679344200@kvann.no
SUMMARY:NY DATO! Sesongmøte for potetlauget 20 mars
DESCRIPTION:Sesongmøte må flyttes grunnet sykdom. Jeg kontakter alle påmeldte med ny dato. ! \nNy dato blir mandag 20 mars kl 19:00.  For at flest mulig av de påmeldte skal få informasjon om årets miniknoller\, gjør vi et opptak av møtet som de påmeldte får link til. \n  \nVelkommen til potetlaugets årlige sesongmøte.\nPotetlauget inviterer til uformell nettsamling\, der vi snakker om årets sorter. \nIngrid Indergaard\, laugsleder i potetlauget\, presenterer årets sorter og viser hvordan og når man bestiller miniknoller. \nMorten Rasmussen fra NIBIO deltar for å snakke om delikatessepotet prosjektet\, interesse for gamle sorter og potetbevaring i potetgenbanken. \nFredrik Magnussen fra Slæpen gård viser noen av hans landsorter. Fredrik dyrker mange gamle sorter på gården\, og er involvert i et settepotet produksjon prosjekt i samarbeid med Norsk bruksgenbank. \n  \nI år er det miniknoller fra potetsortene:\nPurple Peruvian\nSarpo Tominia\nGullauge\, rød\nJøssing\nKerrs pink med blått skall\nTromøypotet\nBlå kongo\nRosenpoteten/Early rose\nÅspotet\nMarius II \nVelkommen til hyggelig potetsamling. \n\nTrykk på linken under for å delta:\n\n\nTopic: Sesongmøte potetlauget KVANN\nTime: Mar 20\, 2023 07:00 PM Oslo\n\nJoin Zoom Meeting\nhttps://us06web.zoom.us/j/81102199227?pwd=WDdhUWNnTU9Tc3k2T0o1NW9FZFNPQT09\n\nMeeting ID: 811 0219 9227\nPasscode: 173405
URL:https://kvann.no/arrangement/sesongmote-for-potetlauget/
LOCATION:Nettmøte\, Norge
CATEGORIES:Fagtreff
ATTACH;FMTTYPE=image/png:https://kvann.no/wp-content/uploads/2020/09/Kvann-Nyhetsbrev-Potetsamling-bilde1.png
ORGANIZER;CN="Potetlauget":MAILTO:medlem@kvann.no
END:VEVENT
END:VCALENDAR